BEGIN:VCALENDAR
VERSION:2.0
PRODID:-//Hope UCC St. Louis - ECPv6.15.20//NONSGML v1.0//EN
CALSCALE:GREGORIAN
METHOD:PUBLISH
X-ORIGINAL-URL:https://www.hopeuccstl.org
X-WR-CALDESC:Events for Hope UCC St. Louis
REFRESH-INTERVAL;VALUE=DURATION:PT1H
X-Robots-Tag:noindex
X-PUBLISHED-TTL:PT1H
BEGIN:VTIMEZONE
TZID:America/Chicago
BEGIN:DAYLIGHT
TZOFFSETFROM:-0600
TZOFFSETTO:-0500
TZNAME:CDT
DTSTART:20250309T080000
END:DAYLIGHT
BEGIN:STANDARD
TZOFFSETFROM:-0500
TZOFFSETTO:-0600
TZNAME:CST
DTSTART:20251102T070000
END:STANDARD
BEGIN:DAYLIGHT
TZOFFSETFROM:-0600
TZOFFSETTO:-0500
TZNAME:CDT
DTSTART:20260308T080000
END:DAYLIGHT
BEGIN:STANDARD
TZOFFSETFROM:-0500
TZOFFSETTO:-0600
TZNAME:CST
DTSTART:20261101T070000
END:STANDARD
BEGIN:DAYLIGHT
TZOFFSETFROM:-0600
TZOFFSETTO:-0500
TZNAME:CDT
DTSTART:20270314T080000
END:DAYLIGHT
BEGIN:STANDARD
TZOFFSETFROM:-0500
TZOFFSETTO:-0600
TZNAME:CST
DTSTART:20271107T070000
END:STANDARD
END:VTIMEZONE
BEGIN:VEVENT
DTSTART;TZID=America/Chicago:20260509T190000
DTEND;TZID=America/Chicago:20260509T213000
DTSTAMP:20260423T170223
CREATED:20260413T171212Z
LAST-MODIFIED:20260422T170311Z
UID:6478-1778353200-1778362200@www.hopeuccstl.org
SUMMARY:Chapel of the Arts Talent Showcase
DESCRIPTION:Tickets are available for $20. \nIf you would like to reserve a seat\, email Robbie Van Nest (robbievn@smtcstl.com) and let her know how many seats you would like\, or call the church office. You can drop a check or cash in the collection plate (please label with your name)\, or pay at the door on the day of the show in the Chapel. \n  \n 
URL:https://www.hopeuccstl.org/event/chapel-of-the-arts-talent-showcase/
LOCATION:Chapel of the Arts Talent Showcase\, 6273 Eichelberger St.\, St. Louis\, MO\, 63109\, United States
END:VEVENT
END:VCALENDAR