BEGIN:VCALENDAR
VERSION:2.0
PRODID:-//Hope UCC St. Louis - ECPv6.15.20//NONSGML v1.0//EN
CALSCALE:GREGORIAN
METHOD:PUBLISH
X-WR-CALNAME:Hope UCC St. Louis
X-ORIGINAL-URL:https://www.hopeuccstl.org
X-WR-CALDESC:Events for Hope UCC St. Louis
REFRESH-INTERVAL;VALUE=DURATION:PT1H
X-Robots-Tag:noindex
X-PUBLISHED-TTL:PT1H
BEGIN:VTIMEZONE
TZID:America/Chicago
BEGIN:DAYLIGHT
TZOFFSETFROM:-0600
TZOFFSETTO:-0500
TZNAME:CDT
DTSTART:19690427T080000
END:DAYLIGHT
BEGIN:STANDARD
TZOFFSETFROM:-0500
TZOFFSETTO:-0600
TZNAME:CST
DTSTART:19691026T070000
END:STANDARD
BEGIN:DAYLIGHT
TZOFFSETFROM:-0600
TZOFFSETTO:-0500
TZNAME:CDT
DTSTART:19700426T080000
END:DAYLIGHT
BEGIN:STANDARD
TZOFFSETFROM:-0500
TZOFFSETTO:-0600
TZNAME:CST
DTSTART:19701025T070000
END:STANDARD
BEGIN:DAYLIGHT
TZOFFSETFROM:-0600
TZOFFSETTO:-0500
TZNAME:CDT
DTSTART:19710425T080000
END:DAYLIGHT
BEGIN:STANDARD
TZOFFSETFROM:-0500
TZOFFSETTO:-0600
TZNAME:CST
DTSTART:19711031T070000
END:STANDARD
END:VTIMEZONE
BEGIN:VEVENT
DTSTART;TZID=America/Chicago:20260425T060635
DTEND;TZID=America/Chicago:20260425T060635
DTSTAMP:20260425T060635
CREATED:20260422T220530Z
LAST-MODIFIED:20260422T220530Z
UID:6793-0-0@www.hopeuccstl.org
SUMMARY:Picnic on the Playground
DESCRIPTION:Picnic on the Playground!\nCome join us after the 10:30 service for a picnic on the playground. \nHopefully we will have beautiful weather. \n 
URL:https://www.hopeuccstl.org/event/picnic-on-the-playground/
END:VEVENT
BEGIN:VEVENT
DTSTART;TZID=America/Chicago:20260425T060635
DTEND;TZID=America/Chicago:20260425T060635
DTSTAMP:20260425T060635
CREATED:20260422T220523Z
LAST-MODIFIED:20260422T220523Z
UID:6783-0-0@www.hopeuccstl.org
SUMMARY:Prayer Service in the Chapel
DESCRIPTION:
URL:https://www.hopeuccstl.org/event/prayer-service-in-the-chapel/
END:VEVENT
BEGIN:VEVENT
DTSTART;TZID=America/Chicago:20260425T060635
DTEND;TZID=America/Chicago:20260425T060635
DTSTAMP:20260425T060635
CREATED:20260422T220523Z
LAST-MODIFIED:20260422T220523Z
UID:6784-0-0@www.hopeuccstl.org
SUMMARY:Spaghetti Dinner
DESCRIPTION:Hope’s annual Spaghetti Dinner will be an in-person event this year in Fellowship Hall.\nAdults $10.00\, Kids (ages 4 through 12) $5.00
URL:https://www.hopeuccstl.org/event/spaghetti-dinner/
END:VEVENT
BEGIN:VEVENT
DTSTART;TZID=America/Chicago:20260425T060635
DTEND;TZID=America/Chicago:20260425T060635
DTSTAMP:20260425T060635
CREATED:20260422T220523Z
LAST-MODIFIED:20260422T220718Z
UID:6785-0-0@www.hopeuccstl.org
SUMMARY:Vacation Bible School
DESCRIPTION:9 a.m. – 12 p.m.Cost: $30 per child\nContact Sara Karcher for more information
URL:https://www.hopeuccstl.org/event/vacation-bible-school/
END:VEVENT
BEGIN:VEVENT
DTSTART;TZID=America/Chicago:20260425T060635
DTEND;TZID=America/Chicago:20260425T060635
DTSTAMP:20260425T060635
CREATED:20260422T220523Z
LAST-MODIFIED:20260422T220636Z
UID:6786-0-0@www.hopeuccstl.org
SUMMARY:Environmental Justice Team Meeting
DESCRIPTION:
URL:https://www.hopeuccstl.org/event/environmental-justice-team-meeting/
END:VEVENT
BEGIN:VEVENT
DTSTART;TZID=America/Chicago:20260425T060635
DTEND;TZID=America/Chicago:20260425T060635
DTSTAMP:20260425T060635
CREATED:20260422T220515Z
LAST-MODIFIED:20260422T220515Z
UID:6782-0-0@www.hopeuccstl.org
SUMMARY:Brown Bag Supper
DESCRIPTION:“Brown Bag” supper in Fellowship Hall\nPack a supper and gather together with friends anytime during this hour \n 
URL:https://www.hopeuccstl.org/event/brown-bag-supper/
END:VEVENT
BEGIN:VEVENT
DTSTART;TZID=America/Chicago:20260425T060635
DTEND;TZID=America/Chicago:20260425T060635
DTSTAMP:20260425T060635
CREATED:20260422T220515Z
LAST-MODIFIED:20260422T220515Z
UID:6779-0-0@www.hopeuccstl.org
SUMMARY:Learning Through Lent - Windows of Hope
DESCRIPTION:Have you ever wondered about the meanings and stories behind each stained-glass window in our Sanctuary?  Did you know we have tour buses of visitors who come to see them? Come and learn more about each window\, and receive a book with renderings of each window by our own member\, artist Judy Huff.\n 
URL:https://www.hopeuccstl.org/event/learning-through-lent-windows-of-hope/
END:VEVENT
BEGIN:VEVENT
DTSTART;TZID=America/Chicago:20260425T060635
DTEND;TZID=America/Chicago:20260425T060635
DTSTAMP:20260425T060635
CREATED:20260422T220515Z
LAST-MODIFIED:20260422T220515Z
UID:6780-0-0@www.hopeuccstl.org
SUMMARY:Learning Through Lent - Pedals\, Pipes and PIZAZZ
DESCRIPTION:While sitting in a service\, have you ever wondered how the 42 organ pipes you see can make all of that sound?  Or\, are there more?  How do they make different sounds?  What are all the buttons and knobs for on the organ console?  Is the organ just a glorified piano? Are they played differently?  What makes them different?  What more would you like to learn about the organ? Here’s your chance to get your questions answered.  You will have an opportunity to see inside the organ and what makes it work.  You will also learn the history of our Harrison & Harrison Pipe Organ and how it was selected.
URL:https://www.hopeuccstl.org/event/learning-through-lent-pedals-pipes-and-pizazz/
END:VEVENT
BEGIN:VEVENT
DTSTART;TZID=America/Chicago:20260425T060635
DTEND;TZID=America/Chicago:20260425T060635
DTSTAMP:20260425T060635
CREATED:20260422T220515Z
LAST-MODIFIED:20260422T220515Z
UID:6781-0-0@www.hopeuccstl.org
SUMMARY:Chrismons for Christmas
DESCRIPTION:Have you ever wondered what the white\, gold\, and silver ornaments on our beautifully decorated tree are all about?  Come and learn about the roots of this tradition\, the meaning of their symbols\, and how to make one of your own! (no crafting skills required!) In the Friendly Room.\n 
URL:https://www.hopeuccstl.org/event/chrismons-for-christmas/
END:VEVENT
BEGIN:VEVENT
DTSTART;TZID=America/Chicago:20260425T060635
DTEND;TZID=America/Chicago:20260425T060635
DTSTAMP:20260425T060635
CREATED:20260422T220514Z
LAST-MODIFIED:20260422T220514Z
UID:6778-0-0@www.hopeuccstl.org
SUMMARY:Learning Through Lent - Taizé
DESCRIPTION:Have you ever wondered about the roots of this unique style of worship? Come and explore the Taizé Community in France\, and learn more about the origin and purpose of its worship and communal life\, and why it attracts thousands of visitors each year\, including a visit from Pastor Sarah and her family during a previous sabbatical.\n 
URL:https://www.hopeuccstl.org/event/learning-through-lent-taize/
END:VEVENT
BEGIN:VEVENT
DTSTART;TZID=America/Chicago:20260425T060635
DTEND;TZID=America/Chicago:20260425T060635
DTSTAMP:20260425T060635
CREATED:20260422T220508Z
LAST-MODIFIED:20260422T220508Z
UID:6776-0-0@www.hopeuccstl.org
SUMMARY:One Body Ministry Meeting
DESCRIPTION:
URL:https://www.hopeuccstl.org/event/one-body-ministry-meeting/
END:VEVENT
BEGIN:VEVENT
DTSTART;TZID=America/Chicago:20260425T060635
DTEND;TZID=America/Chicago:20260425T060635
DTSTAMP:20260425T060635
CREATED:20260422T220508Z
LAST-MODIFIED:20260422T220508Z
UID:6773-0-0@www.hopeuccstl.org
SUMMARY:Ash Wednesday
DESCRIPTION:
URL:https://www.hopeuccstl.org/event/ash-wednesday/
END:VEVENT
BEGIN:VEVENT
DTSTART;TZID=America/Chicago:20260425T060635
DTEND;TZID=America/Chicago:20260425T060635
DTSTAMP:20260425T060635
CREATED:20260422T220508Z
LAST-MODIFIED:20260422T220856Z
UID:6774-0-0@www.hopeuccstl.org
SUMMARY:Ashes to Go
DESCRIPTION:Can’t come to the evening worship service? Stop by church for a prayerful momentand receive the mark of ashes from Pastor Sarah. \nPlease use the Eichelberger entrance & ring the office bell to request Pastor Sarah for ashes to go.
URL:https://www.hopeuccstl.org/event/ashes-to-go/
END:VEVENT
BEGIN:VEVENT
DTSTART;TZID=America/Chicago:20260425T060635
DTEND;TZID=America/Chicago:20260425T060635
DTSTAMP:20260425T060635
CREATED:20260422T220508Z
LAST-MODIFIED:20260422T220603Z
UID:6775-0-0@www.hopeuccstl.org
SUMMARY:Ash Wednesday Service
DESCRIPTION:With Imposition of Ashes and Sacrament of Communion.The link to the YouTube video of the service will be posted after worship.
URL:https://www.hopeuccstl.org/event/ash-wednesday-service/
END:VEVENT
BEGIN:VEVENT
DTSTART;TZID=America/Chicago:20260425T060635
DTEND;TZID=America/Chicago:20260425T060635
DTSTAMP:20260425T060635
CREATED:20260422T220458Z
LAST-MODIFIED:20260422T220458Z
UID:6770-0-0@www.hopeuccstl.org
SUMMARY:Chinese New Year
DESCRIPTION:Chinese New Year for Buddhist faith
URL:https://www.hopeuccstl.org/event/chinese-new-year/
END:VEVENT
BEGIN:VEVENT
DTSTART;TZID=America/Chicago:20260425T060635
DTEND;TZID=America/Chicago:20260425T060635
DTSTAMP:20260425T060635
CREATED:20260422T220458Z
LAST-MODIFIED:20260422T220458Z
UID:6771-0-0@www.hopeuccstl.org
SUMMARY:Vasant Panchami
DESCRIPTION:Festival marking the beginning of Spring in the Hindu faith
URL:https://www.hopeuccstl.org/event/vasant-panchami/
END:VEVENT
BEGIN:VEVENT
DTSTART;TZID=America/Chicago:20260425T060635
DTEND;TZID=America/Chicago:20260425T060635
DTSTAMP:20260425T060635
CREATED:20260422T220458Z
LAST-MODIFIED:20260422T220458Z
UID:6772-0-0@www.hopeuccstl.org
SUMMARY:International Day of Prayer & Awareness Against Human Trafficking
DESCRIPTION:
URL:https://www.hopeuccstl.org/event/international-day-of-prayer-awareness-against-human-trafficking/
END:VEVENT
BEGIN:VEVENT
DTSTART;TZID=America/Chicago:20260425T060635
DTEND;TZID=America/Chicago:20260425T060635
DTSTAMP:20260425T060635
CREATED:20260422T220458Z
LAST-MODIFIED:20260422T220844Z
UID:6768-0-0@www.hopeuccstl.org
SUMMARY:Office Closed - Presidents' Day
DESCRIPTION:
URL:https://www.hopeuccstl.org/event/office-closed-presidents-day/
END:VEVENT
BEGIN:VEVENT
DTSTART;TZID=America/Chicago:20260425T060635
DTEND;TZID=America/Chicago:20260425T060635
DTSTAMP:20260425T060635
CREATED:20260422T220441Z
LAST-MODIFIED:20260422T220441Z
UID:6764-0-0@www.hopeuccstl.org
SUMMARY:Bible Study in Person with Pastor Sarah
DESCRIPTION:Our next monthly Bible Study series will begin in January\, which gives you plenty of time to sign up!  The series is entitled “Sowing Tears\, Reaping Joy” and it incorporates the powerful music of Brahms’ Requiem with in-depth study of the biblical passages chosen for this remarkable musical piece. As described by the publisher\, “Follow this famous requiem on a tour of Biblical prompts about death\, grief\, the brevity of life\, and faith for here and hereafter.  Through music and Scripture\, we move from graveside to grieving\, from the challenges of self-reflection to new perspectives and hope beyond.”   No expertise of classical music or the Bible is needed! Student books are $15 each and will be ordered in advance. Therefore\, please sign up by December 15th so books can be ordered and distributed before the first session on January 25th\, 7 p.m.  This series will be held in person in the Friendly Room\, with a modified Zoom option for those unable to attend in person.  Questions? See Pastor Sarah. Contact church office to sign up.\n  \n 
URL:https://www.hopeuccstl.org/event/bible-study-in-person-with-pastor-sarah/
END:VEVENT
BEGIN:VEVENT
DTSTART;TZID=America/Chicago:20260425T060635
DTEND;TZID=America/Chicago:20260425T060635
DTSTAMP:20260425T060635
CREATED:20260422T220441Z
LAST-MODIFIED:20260422T220441Z
UID:6765-0-0@www.hopeuccstl.org
SUMMARY:New Year's Day
DESCRIPTION:
URL:https://www.hopeuccstl.org/event/new-years-day/
END:VEVENT
BEGIN:VEVENT
DTSTART;TZID=America/Chicago:20260425T060635
DTEND;TZID=America/Chicago:20260425T060635
DTSTAMP:20260425T060635
CREATED:20260422T220437Z
LAST-MODIFIED:20260422T220437Z
UID:6762-0-0@www.hopeuccstl.org
SUMMARY:Ministry Leadership Meetings & Annual Orientation
DESCRIPTION:Check with individual teams for details about meeting mode: in-person or Zoom
URL:https://www.hopeuccstl.org/event/ministry-leadership-meetings-annual-orientation/
END:VEVENT
BEGIN:VEVENT
DTSTART;TZID=America/Chicago:20260425T060635
DTEND;TZID=America/Chicago:20260425T060635
DTSTAMP:20260425T060635
CREATED:20260422T220435Z
LAST-MODIFIED:20260422T220435Z
UID:6761-0-0@www.hopeuccstl.org
SUMMARY:Unhanging of the Greens
DESCRIPTION:
URL:https://www.hopeuccstl.org/event/unhanging-of-the-greens/
END:VEVENT
BEGIN:VEVENT
DTSTART;TZID=America/Chicago:20260425T060635
DTEND;TZID=America/Chicago:20260425T060635
DTSTAMP:20260425T060635
CREATED:20260422T220435Z
LAST-MODIFIED:20260422T220435Z
UID:6760-0-0@www.hopeuccstl.org
SUMMARY:Pageant Rehearsal
DESCRIPTION:Rehearsal for the Christmas Pageant will be held in the sanctuary after worship.
URL:https://www.hopeuccstl.org/event/pageant-rehearsal/
END:VEVENT
BEGIN:VEVENT
DTSTART;TZID=America/Chicago:20260425T060635
DTEND;TZID=America/Chicago:20260425T060635
DTSTAMP:20260425T060635
CREATED:20260422T220426Z
LAST-MODIFIED:20260422T220426Z
UID:6756-0-0@www.hopeuccstl.org
SUMMARY:Service of Light
DESCRIPTION:There is a tradition that many churches have\, and that we are reviving here at Hope\, to offer a contemplative service during Advent that acknowledges our grief and loss in the midst of a joyful season.  This is often held on the longest night of the year\, in recognition of the light of Christ coming into the darkest times of our lives.  It is sometimes called a “Blue Christmas” service\, or “Longest Night” service\, or\, as we are calling it\, a “Service of Light.”  No matter the name\, the service focuses on our universal longing for hope and love amidst loss and grief and uncertainty of all kinds. All are welcome to join us on Tuesday evening\, December 21st at 7pm in the Chapel.  We will hold a short prayer service\, focusing on the light of Christ coming into the dark and uncertain times of our lives. During the service\, all participants will be invited to light a candle in remembrance of a loved one\, or simply as a sign of hope.\n 
URL:https://www.hopeuccstl.org/event/service-of-light/
END:VEVENT
BEGIN:VEVENT
DTSTART;TZID=America/Chicago:20260425T060635
DTEND;TZID=America/Chicago:20260425T060635
DTSTAMP:20260425T060635
CREATED:20260422T220426Z
LAST-MODIFIED:20260422T220426Z
UID:6757-0-0@www.hopeuccstl.org
SUMMARY:10:30 AM Fourth Sunday of Advent Worship
DESCRIPTION:This service will be held in the main sanctuary at Hope United Church of Christ. You are welcome to attend in person or virtually through YouTube.\nA video of this service will be posted to Hope UCC’s YouTube channel after worship.
URL:https://www.hopeuccstl.org/event/1030-am-fourth-sunday-of-advent-worship/
END:VEVENT
BEGIN:VEVENT
DTSTART;TZID=America/Chicago:20260425T060635
DTEND;TZID=America/Chicago:20260425T060635
DTSTAMP:20260425T060635
CREATED:20260422T220426Z
LAST-MODIFIED:20260422T220426Z
UID:6758-0-0@www.hopeuccstl.org
SUMMARY:Christmas Eve in the Chapel
DESCRIPTION:This service will be held in the Chapel at Hope United Church of Christ with candle light and singing. It is an in-person service only and will not be available via YouTube. All are welcome to attend this service! \nMerry Christmas
URL:https://www.hopeuccstl.org/event/christmas-eve-in-the-chapel/
END:VEVENT
BEGIN:VEVENT
DTSTART;TZID=America/Chicago:20260425T060635
DTEND;TZID=America/Chicago:20260425T060635
DTSTAMP:20260425T060635
CREATED:20260422T220425Z
LAST-MODIFIED:20260422T220425Z
UID:6755-0-0@www.hopeuccstl.org
SUMMARY:Music Rehearsals
DESCRIPTION:
URL:https://www.hopeuccstl.org/event/music-rehearsals/
END:VEVENT
BEGIN:VEVENT
DTSTART;TZID=America/Chicago:20260425T060635
DTEND;TZID=America/Chicago:20260425T060635
DTSTAMP:20260425T060635
CREATED:20260422T220422Z
LAST-MODIFIED:20260422T220422Z
UID:6753-0-0@www.hopeuccstl.org
SUMMARY:Habitat Build Day
DESCRIPTION:
URL:https://www.hopeuccstl.org/event/habitat-build-day/
END:VEVENT
BEGIN:VEVENT
DTSTART;TZID=America/Chicago:20260425T060635
DTEND;TZID=America/Chicago:20260425T060635
DTSTAMP:20260425T060635
CREATED:20260422T220422Z
LAST-MODIFIED:20260422T220422Z
UID:6754-0-0@www.hopeuccstl.org
SUMMARY:Hanging of the Greens
DESCRIPTION:Help decorate the Sanctuary and Chapel with greenery for Advent & Christmas.
URL:https://www.hopeuccstl.org/event/hanging-of-the-greens/
END:VEVENT
BEGIN:VEVENT
DTSTART;TZID=America/Chicago:20260425T060635
DTEND;TZID=America/Chicago:20260425T060635
DTSTAMP:20260425T060635
CREATED:20260422T220419Z
LAST-MODIFIED:20260422T220812Z
UID:6751-0-0@www.hopeuccstl.org
SUMMARY:Third Sunday in Advent
DESCRIPTION:There will be one service only today.  Advent is a season of preparation and anticipation for the birth of Jesus\, and the return of the risen Christ: The word “Advent” comes from the Latin word adventus\, which means “coming” or “arrival”.
URL:https://www.hopeuccstl.org/event/third-sunday-in-advent/
END:VEVENT
END:VCALENDAR