BEGIN:VCALENDAR
VERSION:2.0
PRODID:-//Hope UCC St. Louis - ECPv6.15.20//NONSGML v1.0//EN
CALSCALE:GREGORIAN
METHOD:PUBLISH
X-WR-CALNAME:Hope UCC St. Louis
X-ORIGINAL-URL:https://www.hopeuccstl.org
X-WR-CALDESC:Events for Hope UCC St. Louis
REFRESH-INTERVAL;VALUE=DURATION:PT1H
X-Robots-Tag:noindex
X-PUBLISHED-TTL:PT1H
BEGIN:VTIMEZONE
TZID:America/Chicago
BEGIN:DAYLIGHT
TZOFFSETFROM:-0600
TZOFFSETTO:-0500
TZNAME:CDT
DTSTART:19690427T080000
END:DAYLIGHT
BEGIN:STANDARD
TZOFFSETFROM:-0500
TZOFFSETTO:-0600
TZNAME:CST
DTSTART:19691026T070000
END:STANDARD
BEGIN:DAYLIGHT
TZOFFSETFROM:-0600
TZOFFSETTO:-0500
TZNAME:CDT
DTSTART:19700426T080000
END:DAYLIGHT
BEGIN:STANDARD
TZOFFSETFROM:-0500
TZOFFSETTO:-0600
TZNAME:CST
DTSTART:19701025T070000
END:STANDARD
BEGIN:DAYLIGHT
TZOFFSETFROM:-0600
TZOFFSETTO:-0500
TZNAME:CDT
DTSTART:19710425T080000
END:DAYLIGHT
BEGIN:STANDARD
TZOFFSETFROM:-0500
TZOFFSETTO:-0600
TZNAME:CST
DTSTART:19711031T070000
END:STANDARD
END:VTIMEZONE
BEGIN:VEVENT
DTSTART;TZID=America/Chicago:20260424T054409
DTEND;TZID=America/Chicago:20260424T054409
DTSTAMP:20260424T054409
CREATED:20260422T220635Z
LAST-MODIFIED:20260422T220900Z
UID:6854-0-0@www.hopeuccstl.org
SUMMARY:Easter  Vigil
DESCRIPTION:Volunteers are needed for the Maundy Thursday Vigil on Thursday\, April 17th.Beginning at 9:00 p.m. and ending on Good Friday\, April 18th at 9:00 a.m.\nA sign-up sheet will be on an easel in the narthex of the sanctuary. \n  \n 
URL:https://www.hopeuccstl.org/event/easter-vigil/
END:VEVENT
BEGIN:VEVENT
DTSTART;TZID=America/Chicago:20260424T054409
DTEND;TZID=America/Chicago:20260424T054409
DTSTAMP:20260424T054409
CREATED:20260422T220629Z
LAST-MODIFIED:20260422T220629Z
UID:6849-0-0@www.hopeuccstl.org
SUMMARY:One Church\, One Body Ministry Meeting
DESCRIPTION:We visit homebound members; anyone is welcome to join!Meet in the Chapel
URL:https://www.hopeuccstl.org/event/one-church-one-body-ministry-meeting/
END:VEVENT
BEGIN:VEVENT
DTSTART;TZID=America/Chicago:20260424T054409
DTEND;TZID=America/Chicago:20260424T054409
DTSTAMP:20260424T054409
CREATED:20260422T220629Z
LAST-MODIFIED:20260422T220856Z
UID:6850-0-0@www.hopeuccstl.org
SUMMARY:Annual Spaghetti Dinner
DESCRIPTION:Hope’s Annual Spaghetti Dinner will be from 4-7:00 p.m. in Fellowship Hall.Adults $10.00\, Kids (ages 4 through 12) $5.00 \nSupper club will also meet at the Spaghetti Dinner!
URL:https://www.hopeuccstl.org/event/annual-spaghetti-dinner/
END:VEVENT
BEGIN:VEVENT
DTSTART;TZID=America/Chicago:20260424T054409
DTEND;TZID=America/Chicago:20260424T054409
DTSTAMP:20260424T054409
CREATED:20260422T220620Z
LAST-MODIFIED:20260422T220620Z
UID:6847-0-0@www.hopeuccstl.org
SUMMARY:Smoking Barrels BBQ  Fundraiser Night
DESCRIPTION:South Kingshighway Blvd. St. Louis\, MO 63109\n10% of all proceeds will go back to Hope UCC.!\nCall for pick-up or group reservations:\n314-669-9455 (mention Hope UCC when ordering) \n 
URL:https://www.hopeuccstl.org/event/smoking-barrels-bbq-fundraiser-night/
END:VEVENT
BEGIN:VEVENT
DTSTART;TZID=America/Chicago:20260424T054409
DTEND;TZID=America/Chicago:20260424T054409
DTSTAMP:20260424T054409
CREATED:20260422T220619Z
LAST-MODIFIED:20260422T220619Z
UID:6845-0-0@www.hopeuccstl.org
SUMMARY:Space Station 2024\, Dance Performance
DESCRIPTION:Space Station 2024\, a dance event in the chapel. For details about tickets see the flier on the bulletin board or contact Robbie Van Nest.\n 
URL:https://www.hopeuccstl.org/event/space-station-2024-dance-performance/
END:VEVENT
BEGIN:VEVENT
DTSTART;TZID=America/Chicago:20260424T054409
DTEND;TZID=America/Chicago:20260424T054409
DTSTAMP:20260424T054409
CREATED:20260422T220619Z
LAST-MODIFIED:20260422T220619Z
UID:6840-0-0@www.hopeuccstl.org
SUMMARY:Pretzel Sunday
DESCRIPTION:During the 10:30 service\, children will learn about the history of the pretzel and its relationship to prayer.  We will bake homemade pretzels\, make a craft\, and decorate the bulletin board in Fellowship Hall for Easter.  Pretzels will be shared with the congregation after the 10:30 service.  This activity will be in place of Sunday School classes.
URL:https://www.hopeuccstl.org/event/pretzel-sunday/
END:VEVENT
BEGIN:VEVENT
DTSTART;TZID=America/Chicago:20260424T054409
DTEND;TZID=America/Chicago:20260424T054409
DTSTAMP:20260424T054409
CREATED:20260422T220613Z
LAST-MODIFIED:20260422T220645Z
UID:6837-0-0@www.hopeuccstl.org
SUMMARY:Building & Property meeting
DESCRIPTION:Via Zoom
URL:https://www.hopeuccstl.org/event/building-property-meeting/
END:VEVENT
BEGIN:VEVENT
DTSTART;TZID=America/Chicago:20260424T054409
DTEND;TZID=America/Chicago:20260424T054409
DTSTAMP:20260424T054409
CREATED:20260422T220613Z
LAST-MODIFIED:20260422T220911Z
UID:6838-0-0@www.hopeuccstl.org
SUMMARY:Hope Book Club
DESCRIPTION:Join us for our bi-monthly book discussion following the 10:30 a.m. service. The February book is The Great Gatsby by F. Scott Fitzgerald. A sign-up sheet is be posted in the hallway so we can plan for light refreshments.\n“The Great Gatsby is an intricately crafted novel that depicts the happenings in America’s Jazz Age. I consider this novel as one of the classic stories I’ve read. With its decades of existence\, I still find it captivating to re-read the book and relive F. Scott Fitzgerald’s telling on the conception of love\, affluence and societal class.”\n– The Good Novel \nThis book is also available on the Libby application at https://share.libbyapp.com/title/9768977 \n  \n 
URL:https://www.hopeuccstl.org/event/hope-book-club/
END:VEVENT
BEGIN:VEVENT
DTSTART;TZID=America/Chicago:20260424T054409
DTEND;TZID=America/Chicago:20260424T054409
DTSTAMP:20260424T054409
CREATED:20260422T220604Z
LAST-MODIFIED:20260422T220604Z
UID:6836-0-0@www.hopeuccstl.org
SUMMARY:Finance & Insurance Meeting
DESCRIPTION:
URL:https://www.hopeuccstl.org/event/finance-insurance-meeting/
END:VEVENT
BEGIN:VEVENT
DTSTART;TZID=America/Chicago:20260424T054409
DTEND;TZID=America/Chicago:20260424T054409
DTSTAMP:20260424T054409
CREATED:20260422T220603Z
LAST-MODIFIED:20260422T220808Z
UID:6835-0-0@www.hopeuccstl.org
SUMMARY:Ministry Leadership Meeting
DESCRIPTION:Check with individual teams for details about meeting mode: in-person or Zoom
URL:https://www.hopeuccstl.org/event/ministry-leadership-meeting/
END:VEVENT
BEGIN:VEVENT
DTSTART;TZID=America/Chicago:20260424T054409
DTEND;TZID=America/Chicago:20260424T054409
DTSTAMP:20260424T054409
CREATED:20260422T220603Z
LAST-MODIFIED:20260422T220619Z
UID:6831-0-0@www.hopeuccstl.org
SUMMARY:Lenten Series
DESCRIPTION:“Psalms for Justice-Seekers and Peace-Makers”  led by Rev. Dr. Clint McCannSign-up sheet posted on bulletin board next to church office.\nOur final in the Lenten series.
URL:https://www.hopeuccstl.org/event/lenten-series/
END:VEVENT
BEGIN:VEVENT
DTSTART;TZID=America/Chicago:20260424T054409
DTEND;TZID=America/Chicago:20260424T054409
DTSTAMP:20260424T054409
CREATED:20260422T220556Z
LAST-MODIFIED:20260422T220859Z
UID:6824-0-0@www.hopeuccstl.org
SUMMARY:Hope Supper Club
DESCRIPTION:Michael’s Bar & Grill7101 Manchester Ave\, St. Louis\, MO 63143\nAnyone interested in attending should Tiffany know by phone or text at 314.413.3955 by December 1st.   \n  \n 
URL:https://www.hopeuccstl.org/event/hope-supper-club/
END:VEVENT
BEGIN:VEVENT
DTSTART;TZID=America/Chicago:20260424T054409
DTEND;TZID=America/Chicago:20260424T054409
DTSTAMP:20260424T054409
CREATED:20260422T220556Z
LAST-MODIFIED:20260422T220556Z
UID:6825-0-0@www.hopeuccstl.org
SUMMARY:Hope UCC Chamber Concert
DESCRIPTION:
URL:https://www.hopeuccstl.org/event/hope-ucc-chamber-concert/
END:VEVENT
BEGIN:VEVENT
DTSTART;TZID=America/Chicago:20260424T054409
DTEND;TZID=America/Chicago:20260424T054409
DTSTAMP:20260424T054409
CREATED:20260422T220553Z
LAST-MODIFIED:20260422T220553Z
UID:6820-0-0@www.hopeuccstl.org
SUMMARY:Renewal of Baptism
DESCRIPTION:Join us as we renew our baptisms to commit ourselves to our church in the new year.
URL:https://www.hopeuccstl.org/event/renewal-of-baptism/
END:VEVENT
BEGIN:VEVENT
DTSTART;TZID=America/Chicago:20260424T054409
DTEND;TZID=America/Chicago:20260424T054409
DTSTAMP:20260424T054409
CREATED:20260422T220553Z
LAST-MODIFIED:20260422T220553Z
UID:6822-0-0@www.hopeuccstl.org
SUMMARY:Ministry Teams orientation
DESCRIPTION:
URL:https://www.hopeuccstl.org/event/ministry-teams-orientation/
END:VEVENT
BEGIN:VEVENT
DTSTART;TZID=America/Chicago:20260424T054409
DTEND;TZID=America/Chicago:20260424T054409
DTSTAMP:20260424T054409
CREATED:20260422T220553Z
LAST-MODIFIED:20260422T220915Z
UID:6819-0-0@www.hopeuccstl.org
SUMMARY:PIE/Prayer Is Essential
DESCRIPTION:Prayer is Essential (PIE) is on the first Thursday of each month at 7pm in the Parlor.  At each session we may read a few Bible verses or devotional materials to inform our discussion and then address joys and concerns before spending time with prayer.  All are welcome to join at any time.
URL:https://www.hopeuccstl.org/event/pie-prayer-is-essential/
END:VEVENT
BEGIN:VEVENT
DTSTART;TZID=America/Chicago:20260424T054409
DTEND;TZID=America/Chicago:20260424T054409
DTSTAMP:20260424T054409
CREATED:20260422T220548Z
LAST-MODIFIED:20260422T220548Z
UID:6817-0-0@www.hopeuccstl.org
SUMMARY:Christmas Pageant
DESCRIPTION:A Very Special Worship Event – Christmas Pageant 2025
URL:https://www.hopeuccstl.org/event/christmas-pageant/
END:VEVENT
BEGIN:VEVENT
DTSTART;TZID=America/Chicago:20260424T054409
DTEND;TZID=America/Chicago:20260424T054409
DTSTAMP:20260424T054409
CREATED:20260422T220548Z
LAST-MODIFIED:20260422T220739Z
UID:6818-0-0@www.hopeuccstl.org
SUMMARY:Builder articles due to office
DESCRIPTION:Please send your articles\, graphics to office@hopeuccstl.org.
URL:https://www.hopeuccstl.org/event/builder-articles-due-to-office/
END:VEVENT
BEGIN:VEVENT
DTSTART;TZID=America/Chicago:20260424T054409
DTEND;TZID=America/Chicago:20260424T054409
DTSTAMP:20260424T054409
CREATED:20260422T220547Z
LAST-MODIFIED:20260422T220859Z
UID:6812-0-0@www.hopeuccstl.org
SUMMARY:Worship Team Meeting
DESCRIPTION:
URL:https://www.hopeuccstl.org/event/worship-team-meeting/
END:VEVENT
BEGIN:VEVENT
DTSTART;TZID=America/Chicago:20260424T054409
DTEND;TZID=America/Chicago:20260424T054409
DTSTAMP:20260424T054409
CREATED:20260422T220547Z
LAST-MODIFIED:20260422T220547Z
UID:6813-0-0@www.hopeuccstl.org
SUMMARY:Supper Club
DESCRIPTION:
URL:https://www.hopeuccstl.org/event/supper-club/
END:VEVENT
BEGIN:VEVENT
DTSTART;TZID=America/Chicago:20260424T054409
DTEND;TZID=America/Chicago:20260424T054409
DTSTAMP:20260424T054409
CREATED:20260422T220547Z
LAST-MODIFIED:20260422T220547Z
UID:6814-0-0@www.hopeuccstl.org
SUMMARY:Festival of Carols
DESCRIPTION:Join us for a lovely service with many of your favorite Christmas carols!
URL:https://www.hopeuccstl.org/event/festival-of-carols/
END:VEVENT
BEGIN:VEVENT
DTSTART;TZID=America/Chicago:20260424T054409
DTEND;TZID=America/Chicago:20260424T054409
DTSTAMP:20260424T054409
CREATED:20260422T220546Z
LAST-MODIFIED:20260422T220546Z
UID:6811-0-0@www.hopeuccstl.org
SUMMARY:Annual Meeting
DESCRIPTION:The Annual Congregational Meeting will follow the 10:30 am worship service with an approximate start time of 11:30 am.
URL:https://www.hopeuccstl.org/event/annual-meeting/
END:VEVENT
BEGIN:VEVENT
DTSTART;TZID=America/Chicago:20260424T054409
DTEND;TZID=America/Chicago:20260424T054409
DTSTAMP:20260424T054409
CREATED:20260422T220541Z
LAST-MODIFIED:20260422T220754Z
UID:6804-0-0@www.hopeuccstl.org
SUMMARY:Worship in Chapel
DESCRIPTION:
URL:https://www.hopeuccstl.org/event/worship-in-chapel/
END:VEVENT
BEGIN:VEVENT
DTSTART;TZID=America/Chicago:20260424T054409
DTEND;TZID=America/Chicago:20260424T054409
DTSTAMP:20260424T054409
CREATED:20260422T220541Z
LAST-MODIFIED:20260422T220837Z
UID:6805-0-0@www.hopeuccstl.org
SUMMARY:Worship in Sanctuary
DESCRIPTION:This service will be held in the main sanctuary at Hope United Church of Christ. You are welcome to attend in person or virtually through YouTube.\nA video of this service will be posted to Hope UCC’s YouTube channel after worship.
URL:https://www.hopeuccstl.org/event/worship-in-sanctuary/
END:VEVENT
BEGIN:VEVENT
DTSTART;TZID=America/Chicago:20260424T054409
DTEND;TZID=America/Chicago:20260424T054409
DTSTAMP:20260424T054409
CREATED:20260422T220541Z
LAST-MODIFIED:20260422T220739Z
UID:6806-0-0@www.hopeuccstl.org
SUMMARY:Taize Worship in Chapel
DESCRIPTION:The Taizé style of worship is based on simple\, meditative songs\, prayer\, and silence:  Singing is one of the most essential elements of worship. Short songs\, repeated again and again\, give it a meditative character. Using just a few words they express a basic reality of faith\, quickly grasped by the mind. As the words are sung over many times\, this reality gradually penetrates the whole being. Meditative singing thus becomes a way of listening to God.
URL:https://www.hopeuccstl.org/event/taize-worship-in-chapel/
END:VEVENT
BEGIN:VEVENT
DTSTART;TZID=America/Chicago:20260424T054409
DTEND;TZID=America/Chicago:20260424T054409
DTSTAMP:20260424T054409
CREATED:20260422T220540Z
LAST-MODIFIED:20260422T220732Z
UID:6803-0-0@www.hopeuccstl.org
SUMMARY:Worship in Sanctuary with Sacrament of Communion
DESCRIPTION:
URL:https://www.hopeuccstl.org/event/worship-in-sanctuary-with-sacrament-of-communion/
END:VEVENT
BEGIN:VEVENT
DTSTART;TZID=America/Chicago:20260424T054409
DTEND;TZID=America/Chicago:20260424T054409
DTSTAMP:20260424T054409
CREATED:20260422T220540Z
LAST-MODIFIED:20260422T220722Z
UID:6802-0-0@www.hopeuccstl.org
SUMMARY:Worship in Chapel with Sacrament of Communion
DESCRIPTION:
URL:https://www.hopeuccstl.org/event/worship-in-chapel-with-sacrament-of-communion/
END:VEVENT
BEGIN:VEVENT
DTSTART;TZID=America/Chicago:20260424T054409
DTEND;TZID=America/Chicago:20260424T054409
DTSTAMP:20260424T054409
CREATED:20260422T220538Z
LAST-MODIFIED:20260422T220538Z
UID:6800-0-0@www.hopeuccstl.org
SUMMARY:Pentecost Sunday Worship
DESCRIPTION:The Worship committee is excited to invite you to celebrate Pentecost at Hope on June 5th with guest artist and musician enhancing our worship.  Artist Vesna Demevska will paint on canvas live during the service\, while Harpist Terri Langerak shares her musical talent on the harp. We hope you will join us for this special day! \n 
URL:https://www.hopeuccstl.org/event/pentecost-sunday-worship/
END:VEVENT
BEGIN:VEVENT
DTSTART;TZID=America/Chicago:20260424T054409
DTEND;TZID=America/Chicago:20260424T054409
DTSTAMP:20260424T054409
CREATED:20260422T220538Z
LAST-MODIFIED:20260422T220538Z
UID:6801-0-0@www.hopeuccstl.org
SUMMARY:Pentecost Sunday Worship
DESCRIPTION: 
URL:https://www.hopeuccstl.org/event/pentecost-sunday-worship-2/
END:VEVENT
BEGIN:VEVENT
DTSTART;TZID=America/Chicago:20260424T054409
DTEND;TZID=America/Chicago:20260424T054409
DTSTAMP:20260424T054409
CREATED:20260422T220532Z
LAST-MODIFIED:20260422T220532Z
UID:6798-0-0@www.hopeuccstl.org
SUMMARY:Isaiah Freedom - Hunger Food Drive
DESCRIPTION:In addition to our ongoing summer collection\, on August 2nd from 10 am-12 pm. Hope UCC is serving as a collection site for this one-day drive. You are invited to bring donations that day\, or volunteer to help coordinate.  Contact Pastor Sarah or a member of the Outreach and Justice Ministry team if interested in volunteering.
URL:https://www.hopeuccstl.org/event/isaiah-freedom-hunger-food-drive/
END:VEVENT
END:VCALENDAR