BEGIN:VCALENDAR
VERSION:2.0
PRODID:-//Hope UCC St. Louis - ECPv6.15.20//NONSGML v1.0//EN
CALSCALE:GREGORIAN
METHOD:PUBLISH
X-WR-CALNAME:Hope UCC St. Louis
X-ORIGINAL-URL:https://www.hopeuccstl.org
X-WR-CALDESC:Events for Hope UCC St. Louis
REFRESH-INTERVAL;VALUE=DURATION:PT1H
X-Robots-Tag:noindex
X-PUBLISHED-TTL:PT1H
BEGIN:VTIMEZONE
TZID:America/Chicago
BEGIN:DAYLIGHT
TZOFFSETFROM:-0600
TZOFFSETTO:-0500
TZNAME:CDT
DTSTART:19690427T080000
END:DAYLIGHT
BEGIN:STANDARD
TZOFFSETFROM:-0500
TZOFFSETTO:-0600
TZNAME:CST
DTSTART:19691026T070000
END:STANDARD
BEGIN:DAYLIGHT
TZOFFSETFROM:-0600
TZOFFSETTO:-0500
TZNAME:CDT
DTSTART:19700426T080000
END:DAYLIGHT
BEGIN:STANDARD
TZOFFSETFROM:-0500
TZOFFSETTO:-0600
TZNAME:CST
DTSTART:19701025T070000
END:STANDARD
BEGIN:DAYLIGHT
TZOFFSETFROM:-0600
TZOFFSETTO:-0500
TZNAME:CDT
DTSTART:19710425T080000
END:DAYLIGHT
BEGIN:STANDARD
TZOFFSETFROM:-0500
TZOFFSETTO:-0600
TZNAME:CST
DTSTART:19711031T070000
END:STANDARD
END:VTIMEZONE
BEGIN:VEVENT
DTSTART;TZID=America/Chicago:20260425T071409
DTEND;TZID=America/Chicago:20260425T071409
DTSTAMP:20260425T071409
CREATED:20260422T215625Z
LAST-MODIFIED:20260422T215625Z
UID:6547-0-0@www.hopeuccstl.org
SUMMARY:Isaiah 58 Ministries Summer Collection Drive
DESCRIPTION:
URL:https://www.hopeuccstl.org/event/isaiah-58-ministries-summer-collection-drive/
END:VEVENT
BEGIN:VEVENT
DTSTART;TZID=America/Chicago:20260425T071409
DTEND;TZID=America/Chicago:20260425T071409
DTSTAMP:20260425T071409
CREATED:20260422T215625Z
LAST-MODIFIED:20260422T215625Z
UID:6548-0-0@www.hopeuccstl.org
SUMMARY:Evangelism & Communications Ministry Team Meeting in the Parlor
DESCRIPTION:
URL:https://www.hopeuccstl.org/event/evangelism-communications-ministry-team-meeting-in-the-parlor/
END:VEVENT
BEGIN:VEVENT
DTSTART;TZID=America/Chicago:20260425T071409
DTEND;TZID=America/Chicago:20260425T071409
DTSTAMP:20260425T071409
CREATED:20260422T215625Z
LAST-MODIFIED:20260422T215625Z
UID:6549-0-0@www.hopeuccstl.org
SUMMARY:Worship Service via Facebook Live
DESCRIPTION:Link to Hope’s Facebook page:\nhttps://www.facebook.com/Hope-United-Church-of-Christ-St-Louis-MO-1570690223201670/
URL:https://www.hopeuccstl.org/event/worship-service-via-facebook-live/
END:VEVENT
BEGIN:VEVENT
DTSTART;TZID=America/Chicago:20260425T071409
DTEND;TZID=America/Chicago:20260425T071409
DTSTAMP:20260425T071409
CREATED:20260422T215625Z
LAST-MODIFIED:20260422T220514Z
UID:6550-0-0@www.hopeuccstl.org
SUMMARY:Builder Articles Due
DESCRIPTION:Send your articles to Joyce DeNeal\, jdeneal@hopeuccstl.org
URL:https://www.hopeuccstl.org/event/builder-articles-due/
END:VEVENT
BEGIN:VEVENT
DTSTART;TZID=America/Chicago:20260425T071409
DTEND;TZID=America/Chicago:20260425T071409
DTSTAMP:20260425T071409
CREATED:20260422T215625Z
LAST-MODIFIED:20260422T215625Z
UID:6551-0-0@www.hopeuccstl.org
SUMMARY:Prayer Shawl Meeting
DESCRIPTION:
URL:https://www.hopeuccstl.org/event/prayer-shawl-meeting/
END:VEVENT
END:VCALENDAR