BEGIN:VCALENDAR
VERSION:2.0
PRODID:-//Hope UCC St. Louis - ECPv6.15.20//NONSGML v1.0//EN
CALSCALE:GREGORIAN
METHOD:PUBLISH
X-WR-CALNAME:Hope UCC St. Louis
X-ORIGINAL-URL:https://www.hopeuccstl.org
X-WR-CALDESC:Events for Hope UCC St. Louis
REFRESH-INTERVAL;VALUE=DURATION:PT1H
X-Robots-Tag:noindex
X-PUBLISHED-TTL:PT1H
BEGIN:VTIMEZONE
TZID:America/Chicago
BEGIN:DAYLIGHT
TZOFFSETFROM:-0600
TZOFFSETTO:-0500
TZNAME:CDT
DTSTART:19690427T080000
END:DAYLIGHT
BEGIN:STANDARD
TZOFFSETFROM:-0500
TZOFFSETTO:-0600
TZNAME:CST
DTSTART:19691026T070000
END:STANDARD
BEGIN:DAYLIGHT
TZOFFSETFROM:-0600
TZOFFSETTO:-0500
TZNAME:CDT
DTSTART:19700426T080000
END:DAYLIGHT
BEGIN:STANDARD
TZOFFSETFROM:-0500
TZOFFSETTO:-0600
TZNAME:CST
DTSTART:19701025T070000
END:STANDARD
BEGIN:DAYLIGHT
TZOFFSETFROM:-0600
TZOFFSETTO:-0500
TZNAME:CDT
DTSTART:19710425T080000
END:DAYLIGHT
BEGIN:STANDARD
TZOFFSETFROM:-0500
TZOFFSETTO:-0600
TZNAME:CST
DTSTART:19711031T070000
END:STANDARD
END:VTIMEZONE
BEGIN:VEVENT
DTSTART;TZID=America/Chicago:20260425T090416
DTEND;TZID=America/Chicago:20260425T090416
DTSTAMP:20260425T090416
CREATED:20260422T215900Z
LAST-MODIFIED:20260422T215900Z
UID:6612-0-0@www.hopeuccstl.org
SUMMARY:4th Annual Crop Concert - Festival of Psalms
DESCRIPTION:This will be a virtual event in 2020\, broadcast via Facebook Live. Follow the link to learn more of the details and register for the Festival of Psalms. The event is open to the public and free of charge.\nhttps://www.eden.edu/events/festival-of-psalms/?fbclid=IwAR0FvF-SqdRaHpBH_uA04NsmEg6ReyWLSlRX521t4zdaMF0xDOxwaTV2GfQ
URL:https://www.hopeuccstl.org/event/4th-annual-crop-concert-festival-of-psalms/
END:VEVENT
BEGIN:VEVENT
DTSTART;TZID=America/Chicago:20260425T090416
DTEND;TZID=America/Chicago:20260425T090416
DTSTAMP:20260425T090416
CREATED:20260422T215900Z
LAST-MODIFIED:20260422T215900Z
UID:6613-0-0@www.hopeuccstl.org
SUMMARY:Annual Report Available
DESCRIPTION:The Annual Report to the Hope United Church of Christ congregation will be available on this date.
URL:https://www.hopeuccstl.org/event/annual-report-available/
END:VEVENT
BEGIN:VEVENT
DTSTART;TZID=America/Chicago:20260425T090416
DTEND;TZID=America/Chicago:20260425T090416
DTSTAMP:20260425T090416
CREATED:20260422T215856Z
LAST-MODIFIED:20260422T215856Z
UID:6611-0-0@www.hopeuccstl.org
SUMMARY:Crop Walk
DESCRIPTION:Due to the ongoing pandemic\, the CROP Walk this year will be virtual; but we are planning a mini-Hope CROP Walk for Sunday\, October 25.  Bring a picnic lunch to 11:30 worship that Sunday\, picnic in the park across the street after worship\, and then we’ll walk a time or two (or three) around Francis Park — properly physically-distanced\, of course.  Or\, you can be a completely virtual walker anytime\, anywhere.  To register as a walker (virtual or otherwise) for the CROP Walk\, to join the Hope CROP Walk team\, and/or to make a monetary donation via credit card to a registered individual or to the team\, go to the website:  www.crophungerwalk.org/saintlouismo\nFor instance\, Pastor Sarah is already registered as a part of the Hope Team\, and you can sponsor her!  Also\, watch for further information on the 4th Annual CROP Concert\, which will be broadcast (probably as a Facebook Live Premier event) on Sunday\, October 25 at 7:00 p. m.  It will also be the 9th Annual Eden Festival of Psalms\, featuring Richard Bruxvoort Colligan and a host of other excellent musicians.  Questions?  Contact Clint McCann \n 
URL:https://www.hopeuccstl.org/event/crop-walk/
END:VEVENT
BEGIN:VEVENT
DTSTART;TZID=America/Chicago:20260425T090416
DTEND;TZID=America/Chicago:20260425T090416
DTSTAMP:20260425T090416
CREATED:20260422T215852Z
LAST-MODIFIED:20260422T215905Z
UID:6607-0-0@www.hopeuccstl.org
SUMMARY:In-House Taize Service
DESCRIPTION:Limited in-person Taize worship returns to Hope United Church of Christ. This service will not be live streamed or available as a video after worship.\nWorship will take place outside on the front lawn\, weather permitting\, and will be held in the chapel in the event of inclement weather. \nPlease read the detailed guidelines at the link below to become familiar with the procedures that will be in place and hear from Pastor Sarah regarding how loving one another from a distance during this time may feel foreign\, but it is that very distance which demonstrates our deep love for one another. \nWorship Reopening Guidelines
URL:https://www.hopeuccstl.org/event/in-house-taize-service/
END:VEVENT
BEGIN:VEVENT
DTSTART;TZID=America/Chicago:20260425T090416
DTEND;TZID=America/Chicago:20260425T090416
DTSTAMP:20260425T090416
CREATED:20260422T215852Z
LAST-MODIFIED:20260422T215852Z
UID:6609-0-0@www.hopeuccstl.org
SUMMARY:In-House Worship Service with Sacrament of Communion - Reservations required
DESCRIPTION:Limited in-person worship returns to Hope United Church of Christ. The service will be available via Facebook Live https://www.facebook.com/Hope-United-Church-of-Christ-St-Louis-MO-1570690223201670/ and later via YouTube for those who wish to worship from home. Because the number of worshipers is limited to protect everyone from the spread of COVID-19\, you will need to make a reservation to attend by calling the church office at 314-353-2288 no later than noon on Wednesday prior to Sunday worship.\nPlease read the detailed guidelines at the link below to learn how to make a reservation\, become familiar with the procedures that will be in place and hear from Pastor Sarah regarding how loving one another from a distance during this time may feel foreign\, but it is that very distance which demonstrates our deep love for one another. \nWorship Reopening Guidelines
URL:https://www.hopeuccstl.org/event/in-house-worship-service-with-sacrament-of-communion-reservations-required/
END:VEVENT
BEGIN:VEVENT
DTSTART;TZID=America/Chicago:20260425T090416
DTEND;TZID=America/Chicago:20260425T090416
DTSTAMP:20260425T090416
CREATED:20260422T215852Z
LAST-MODIFIED:20260422T215852Z
UID:6603-0-0@www.hopeuccstl.org
SUMMARY:Book Discussion Group
DESCRIPTION:How to Be an Antiracist by Ibram X. Kendi\nBelow is a description of the book.\n“Antiracism is a transformative concept that reorients and\nreenergizes the conversation about racism—and\, even more fundamentally\, points us toward liberating new ways of thinking about\nourselves and each other. At its core\, racism is a powerful system\nthat creates false hierarchies of human value; its warped logic extends beyond race\, from the way we regard people of different\nethnicities or skin colors to the way we treat people of different\nsexes\, gender identities\, and body types. Racism intersects with\nclass and culture and geography and even changes the way we see\nand value ourselves. In How to Be an Antiracist\, Kendi takes readers through a widening circle of antiracist ideas—from the most\nbasic concepts to visionary possibilities—that will help readers see\nall forms of racism clearly\, understand their poisonous consequences\, and work to oppose them in our systems and in ourselves.\nKendi weaves an electrifying combination of ethics\, history\,\nlaw\, and science with his own personal story of awakening to antiracism. This is an essential work for anyone who wants to go beyond\nthe awareness of racism to the next step: contributing to the formation of a just and equitable society.”
URL:https://www.hopeuccstl.org/event/book-discussion-group/
END:VEVENT
BEGIN:VEVENT
DTSTART;TZID=America/Chicago:20260425T090416
DTEND;TZID=America/Chicago:20260425T090416
DTSTAMP:20260425T090416
CREATED:20260422T215852Z
LAST-MODIFIED:20260422T215852Z
UID:6606-0-0@www.hopeuccstl.org
SUMMARY:Socially Distanced Fellowship Meal
DESCRIPTION:On Sunday\, September 27\, bring your dinner\,picnic blanket\, kids\, and masks to Francis Park. Every family will set up at least 6 feet apart from others\nand enjoy a meal and some much-needed socializing.\nWe will meet at the Eichelberger/Tamm corner of the\npark\, directly across the street from the church.
URL:https://www.hopeuccstl.org/event/socially-distanced-fellowship-meal-2/
END:VEVENT
BEGIN:VEVENT
DTSTART;TZID=America/Chicago:20260425T090416
DTEND;TZID=America/Chicago:20260425T090416
DTSTAMP:20260425T090416
CREATED:20260422T215851Z
LAST-MODIFIED:20260422T215851Z
UID:6602-0-0@www.hopeuccstl.org
SUMMARY:Socially Distanced Fellowship Meal
DESCRIPTION:On Tuesday\, August 25th\, at 6pm\, bring your dinner\,picnic blanket\, kids\, and masks to Francis Park. Every family will set up at least 6 feet apart from others\nand enjoy a meal and some much-needed socializing.\nWe will meet at the Eichelberger/Tamm corner of the\npark\, directly across the street from the church.
URL:https://www.hopeuccstl.org/event/socially-distanced-fellowship-meal/
END:VEVENT
BEGIN:VEVENT
DTSTART;TZID=America/Chicago:20260425T090416
DTEND;TZID=America/Chicago:20260425T090416
DTSTAMP:20260425T090416
CREATED:20260422T215845Z
LAST-MODIFIED:20260422T215845Z
UID:6599-0-0@www.hopeuccstl.org
SUMMARY:Wedding Ceremony
DESCRIPTION:Wedding Ceremony for Robin Vo and Noslen Campos
URL:https://www.hopeuccstl.org/event/wedding-ceremony/
END:VEVENT
BEGIN:VEVENT
DTSTART;TZID=America/Chicago:20260425T090416
DTEND;TZID=America/Chicago:20260425T090416
DTSTAMP:20260425T090416
CREATED:20260422T215845Z
LAST-MODIFIED:20260422T215845Z
UID:6600-0-0@www.hopeuccstl.org
SUMMARY:Wedding Rehearsal
DESCRIPTION:
URL:https://www.hopeuccstl.org/event/wedding-rehearsal-2/
END:VEVENT
BEGIN:VEVENT
DTSTART;TZID=America/Chicago:20260425T090416
DTEND;TZID=America/Chicago:20260425T090416
DTSTAMP:20260425T090416
CREATED:20260422T215845Z
LAST-MODIFIED:20260422T215845Z
UID:6601-0-0@www.hopeuccstl.org
SUMMARY:Wedding Ceremony
DESCRIPTION:Wedding Ceremony for Patsy Neiswander and Christian Westermayer
URL:https://www.hopeuccstl.org/event/wedding-ceremony-2/
END:VEVENT
BEGIN:VEVENT
DTSTART;TZID=America/Chicago:20260425T090416
DTEND;TZID=America/Chicago:20260425T090416
DTSTAMP:20260425T090416
CREATED:20260422T215845Z
LAST-MODIFIED:20260422T215845Z
UID:6597-0-0@www.hopeuccstl.org
SUMMARY:2021 Stewardship Sunday
DESCRIPTION:You are invited to prayerfully consider your commitment of time\, talent\, and treasure to the ministries of our congregation in 2021 and return the forms through the mail or bring with you on September 20th if worshipping in person.  Let us celebrate our call to share what God has given us!\nFINANCIAL PLEDGE FORM_2021 \nSERVICES PLEDGE FORM_2021
URL:https://www.hopeuccstl.org/event/2021-stewardship-sunday/
END:VEVENT
BEGIN:VEVENT
DTSTART;TZID=America/Chicago:20260425T090416
DTEND;TZID=America/Chicago:20260425T090416
DTSTAMP:20260425T090416
CREATED:20260422T215845Z
LAST-MODIFIED:20260422T215845Z
UID:6598-0-0@www.hopeuccstl.org
SUMMARY:Wedding Rehearsal
DESCRIPTION:
URL:https://www.hopeuccstl.org/event/wedding-rehearsal/
END:VEVENT
BEGIN:VEVENT
DTSTART;TZID=America/Chicago:20260425T090416
DTEND;TZID=America/Chicago:20260425T090416
DTSTAMP:20260425T090416
CREATED:20260422T215837Z
LAST-MODIFIED:20260422T220422Z
UID:6596-0-0@www.hopeuccstl.org
SUMMARY:One Body Ministry Team Meeting
DESCRIPTION:
URL:https://www.hopeuccstl.org/event/one-body-ministry-team-meeting/
END:VEVENT
BEGIN:VEVENT
DTSTART;TZID=America/Chicago:20260425T090416
DTEND;TZID=America/Chicago:20260425T090416
DTSTAMP:20260425T090416
CREATED:20260422T215836Z
LAST-MODIFIED:20260422T215836Z
UID:6594-0-0@www.hopeuccstl.org
SUMMARY:HopeMark PreSchool Opens
DESCRIPTION:
URL:https://www.hopeuccstl.org/event/hopemark-preschool-opens/
END:VEVENT
BEGIN:VEVENT
DTSTART;TZID=America/Chicago:20260425T090416
DTEND;TZID=America/Chicago:20260425T090416
DTSTAMP:20260425T090416
CREATED:20260422T215836Z
LAST-MODIFIED:20260422T215836Z
UID:6595-0-0@www.hopeuccstl.org
SUMMARY:Church Office Closed for Labor Day
DESCRIPTION:
URL:https://www.hopeuccstl.org/event/church-office-closed-for-labor-day/
END:VEVENT
BEGIN:VEVENT
DTSTART;TZID=America/Chicago:20260425T090416
DTEND;TZID=America/Chicago:20260425T090416
DTSTAMP:20260425T090416
CREATED:20260422T215824Z
LAST-MODIFIED:20260422T220538Z
UID:6587-0-0@www.hopeuccstl.org
SUMMARY:Ministry Leadership Meetings
DESCRIPTION:Check with individual teams for details about meeting mode: in-person or Zoom
URL:https://www.hopeuccstl.org/event/ministry-leadership-meetings/
END:VEVENT
BEGIN:VEVENT
DTSTART;TZID=America/Chicago:20260425T090416
DTEND;TZID=America/Chicago:20260425T090416
DTSTAMP:20260425T090416
CREATED:20260422T215822Z
LAST-MODIFIED:20260422T215822Z
UID:6583-0-0@www.hopeuccstl.org
SUMMARY:Live-Stream Worship Service - No In-person Worship
DESCRIPTION:Due to the rising number of COVID-19 cases in the St. Louis region\, in-person worship has been suspended at Hope United Church of Christ.\nHope will continue to live-stream the service on Facebook at 10:30 am. This is the link to Hope’s Facebook page https://www.facebook.com/pages/category/Religious-Organization/Hope-United-Church-of-Christ-St-Louis-MO-1570690223201670/ \nOnce COVID-19 cases have declined in the area for two consecutive weeks\, in-person worship may be resumed with the same restrictions on number of attendees as before.
URL:https://www.hopeuccstl.org/event/live-stream-worship-service-no-in-person-worship/
END:VEVENT
BEGIN:VEVENT
DTSTART;TZID=America/Chicago:20260425T090416
DTEND;TZID=America/Chicago:20260425T090416
DTSTAMP:20260425T090416
CREATED:20260422T215822Z
LAST-MODIFIED:20260422T215822Z
UID:6585-0-0@www.hopeuccstl.org
SUMMARY:In-House Worship Service - Reservations required
DESCRIPTION:Limited in-person worship returns to Hope United Church of Christ. The service will be available via Facebook Live https://www.facebook.com/Hope-United-Church-of-Christ-St-Louis-MO-1570690223201670/ and later via YouTube for those who wish to worship from home. Because the number of worshipers is limited to protect everyone from the spread of COVID-19\, you will need to make a reservation to attend by calling the church office at 314-353-2288 no later than noon on Wednesday prior to Sunday worship.\nPlease read the detailed guidelines at the link below to learn how to make a reservation\, become familiar with the procedures that will be in place and hear from Pastor Sarah regarding how loving one another from a distance during this time may feel foreign\, but it is that very distance which demonstrates our deep love for one another. \nWorship Reopening Guidelines
URL:https://www.hopeuccstl.org/event/in-house-worship-service-reservations-required/
END:VEVENT
BEGIN:VEVENT
DTSTART;TZID=America/Chicago:20260425T090416
DTEND;TZID=America/Chicago:20260425T090416
DTSTAMP:20260425T090416
CREATED:20260422T215815Z
LAST-MODIFIED:20260422T220854Z
UID:6580-0-0@www.hopeuccstl.org
SUMMARY:Builder Newsletter Published
DESCRIPTION:Builder will be emailed and mailed via US Postal service today.
URL:https://www.hopeuccstl.org/event/builder-newsletter-published/
END:VEVENT
BEGIN:VEVENT
DTSTART;TZID=America/Chicago:20260425T090416
DTEND;TZID=America/Chicago:20260425T090416
DTSTAMP:20260425T090416
CREATED:20260422T215815Z
LAST-MODIFIED:20260422T220854Z
UID:6581-0-0@www.hopeuccstl.org
SUMMARY:Hope Council Meeting
DESCRIPTION:As a congregation we are supporting future planning by participating in the Convergence vitality project.  Utilizing feedback and ideas from the entire Hope congregation and community we are working to evolve to meet the needs of our changing community.
URL:https://www.hopeuccstl.org/event/hope-council-meeting/
END:VEVENT
BEGIN:VEVENT
DTSTART;TZID=America/Chicago:20260425T090416
DTEND;TZID=America/Chicago:20260425T090416
DTSTAMP:20260425T090416
CREATED:20260422T215814Z
LAST-MODIFIED:20260422T220538Z
UID:6577-0-0@www.hopeuccstl.org
SUMMARY:Prayer is Essential
DESCRIPTION:Group will meet in the Chapel. During our time together we \n\nShare what’s happening in our lives with the purpose of praying for each\nother’s concerns;\nLearn about different ways to pray;\nShare what’s working and what’s not working in our prayers;\nAnd\, of course\, engage in a variety of prayer exercises.
URL:https://www.hopeuccstl.org/event/prayer-is-essential/
END:VEVENT
BEGIN:VEVENT
DTSTART;TZID=America/Chicago:20260425T090416
DTEND;TZID=America/Chicago:20260425T090416
DTSTAMP:20260425T090416
CREATED:20260422T215814Z
LAST-MODIFIED:20260422T220718Z
UID:6578-0-0@www.hopeuccstl.org
SUMMARY:July 4th Holiday Observed
DESCRIPTION:Church office will be closed for the July 4th holiday.
URL:https://www.hopeuccstl.org/event/july-4th-holiday-observed/
END:VEVENT
BEGIN:VEVENT
DTSTART;TZID=America/Chicago:20260425T090416
DTEND;TZID=America/Chicago:20260425T090416
DTSTAMP:20260425T090416
CREATED:20260422T215811Z
LAST-MODIFIED:20260422T215811Z
UID:6573-0-0@www.hopeuccstl.org
SUMMARY:5th Annual Scott Knopfel Memorial Dine-Out
DESCRIPTION:Please save this date to join with friends and family dining out  at participating restaurants in memory of our former congregation member\, Scott Knopfel\,  The list of participating restaurants is being compiled currently. It  will be shared as soon as it is available.\n 
URL:https://www.hopeuccstl.org/event/5th-annual-scott-knopfel-memorial-dine-out/
END:VEVENT
BEGIN:VEVENT
DTSTART;TZID=America/Chicago:20260425T090416
DTEND;TZID=America/Chicago:20260425T090416
DTSTAMP:20260425T090416
CREATED:20260422T215811Z
LAST-MODIFIED:20260422T220915Z
UID:6574-0-0@www.hopeuccstl.org
SUMMARY:Dartball (Home) game
DESCRIPTION:Games begin at 7:00\, all are welcome to watch in Fellowship Hall.The doors open about 6:45 for warm up.\nFor home games\, we end our warm up at 7:15.\nWhen visiting\, we warm up from 7:15 to 7:30.\nFor information contact Jim Richmann by cell phone/text.
URL:https://www.hopeuccstl.org/event/dartball-home-game/
END:VEVENT
BEGIN:VEVENT
DTSTART;TZID=America/Chicago:20260425T090416
DTEND;TZID=America/Chicago:20260425T090416
DTSTAMP:20260425T090416
CREATED:20260422T215811Z
LAST-MODIFIED:20260422T220530Z
UID:6575-0-0@www.hopeuccstl.org
SUMMARY:Prayer Service via Zoom
DESCRIPTION:Fellowship time begins at 6:45 pm with the service starting at 7 pm. Come early and say hello to other members and friends of Hope United Church of Christ!\nBulletin will be posted here the day before the service. \nJoin this service from home via Zoom. Contact Pastor Sarah for the meeting link.
URL:https://www.hopeuccstl.org/event/prayer-service-via-zoom/
END:VEVENT
BEGIN:VEVENT
DTSTART;TZID=America/Chicago:20260425T090416
DTEND;TZID=America/Chicago:20260425T090416
DTSTAMP:20260425T090416
CREATED:20260422T215811Z
LAST-MODIFIED:20260422T215811Z
UID:6576-0-0@www.hopeuccstl.org
SUMMARY:test
DESCRIPTION:
URL:https://www.hopeuccstl.org/event/test/
END:VEVENT
BEGIN:VEVENT
DTSTART;TZID=America/Chicago:20260425T090416
DTEND;TZID=America/Chicago:20260425T090416
DTSTAMP:20260425T090416
CREATED:20260422T215811Z
LAST-MODIFIED:20260422T215811Z
UID:6572-0-0@www.hopeuccstl.org
SUMMARY:Hope Dinner Group
DESCRIPTION:Hope dinner meeting in March— will be going to Grbic at 4071 Keokuk St. at 6 p.m. on Wednesday\, March 11th.  A sign up Sheet will be posted.  Please register so a good reservation can be made.\n 
URL:https://www.hopeuccstl.org/event/hope-dinner-group/
END:VEVENT
BEGIN:VEVENT
DTSTART;TZID=America/Chicago:20260425T090416
DTEND;TZID=America/Chicago:20260425T090416
DTSTAMP:20260425T090416
CREATED:20260422T215806Z
LAST-MODIFIED:20260422T220916Z
UID:6568-0-0@www.hopeuccstl.org
SUMMARY:Bible Study
DESCRIPTION:New Participants always welcome at our Monthly Bible Study Series!\nBased on Walter Brueggemann’s commentary Genesis\, “Beginnings” takes a fresh look at some familiar Bible stories. Discussions of creation and creationism\, the rebellion of humankind and the Flood bring new perspectives on today’s issues. The experiences of Abraham\, Esau\, Jacob and Joseph speak to Christians seeking to live responsibly in our world.  \nIn the Friendly Room\, we’ll continue our monthly Bible Study series\, entitled “Beginnings.”  The sign-up sheet is posted on the bulletin board. \nQuestions? Contact Pastor Sarah. \n  \n  \n 
URL:https://www.hopeuccstl.org/event/bible-study/
END:VEVENT
BEGIN:VEVENT
DTSTART;TZID=America/Chicago:20260425T090416
DTEND;TZID=America/Chicago:20260425T090416
DTSTAMP:20260425T090416
CREATED:20260422T215806Z
LAST-MODIFIED:20260422T220142Z
UID:6569-0-0@www.hopeuccstl.org
SUMMARY:Prayer Vigil
DESCRIPTION:Volunteers are needed for the Maundy Thursday Vigil.  The Vigil will begin April 1 at 9:00 P.M. after the Maundy Thursday Service and end at 9:00 A.M. on Good Friday\, April 2.\nThis year we will hold the Vigil in the Chapel. We can easily be socially distant.  We do ask that you wear your mask.  Volunteers are needed for a 1-hour time period throughout the night.  The Holy Week vigil encourages the church to remain faithful to our Lord Jesus who is faithful to God and who gave his body and his blood for our sakes and the sake of the world.  Helpful readings for this vigil time will be provided for those who spend this time in quiet worship. \nTwo or three people are needed for each 1-hour period\, with one person seated quietly in the chapel and the other(s) in the lobby area.  A volunteer begins with a 30 minute period in the lobby area and then moves for the next 30 minutes into the chapel.  This coverage ensures that there will always be two or three people present in the building.  Church doors will be locked.  Entrance at the beginning of your vigil time may be gained by quietly knocking at the Eichelberger Street entrance; the person(s) stationed there will open the door and let you in. \nTo sign up to participate in the Vigil\, simply call the church office\, 314-353-2288.  The office is open Monday through Thursday 9:00 A.M. to 12 Noon.
URL:https://www.hopeuccstl.org/event/prayer-vigil/
END:VEVENT
END:VCALENDAR