BEGIN:VCALENDAR
VERSION:2.0
PRODID:-//Hope UCC St. Louis - ECPv6.15.20//NONSGML v1.0//EN
CALSCALE:GREGORIAN
METHOD:PUBLISH
X-WR-CALNAME:Hope UCC St. Louis
X-ORIGINAL-URL:https://www.hopeuccstl.org
X-WR-CALDESC:Events for Hope UCC St. Louis
REFRESH-INTERVAL;VALUE=DURATION:PT1H
X-Robots-Tag:noindex
X-PUBLISHED-TTL:PT1H
BEGIN:VTIMEZONE
TZID:America/Chicago
BEGIN:DAYLIGHT
TZOFFSETFROM:-0600
TZOFFSETTO:-0500
TZNAME:CDT
DTSTART:19690427T080000
END:DAYLIGHT
BEGIN:STANDARD
TZOFFSETFROM:-0500
TZOFFSETTO:-0600
TZNAME:CST
DTSTART:19691026T070000
END:STANDARD
BEGIN:DAYLIGHT
TZOFFSETFROM:-0600
TZOFFSETTO:-0500
TZNAME:CDT
DTSTART:19700426T080000
END:DAYLIGHT
BEGIN:STANDARD
TZOFFSETFROM:-0500
TZOFFSETTO:-0600
TZNAME:CST
DTSTART:19701025T070000
END:STANDARD
BEGIN:DAYLIGHT
TZOFFSETFROM:-0600
TZOFFSETTO:-0500
TZNAME:CDT
DTSTART:19710425T080000
END:DAYLIGHT
BEGIN:STANDARD
TZOFFSETFROM:-0500
TZOFFSETTO:-0600
TZNAME:CST
DTSTART:19711031T070000
END:STANDARD
END:VTIMEZONE
BEGIN:VEVENT
DTSTART;TZID=America/Chicago:20260425T062942
DTEND;TZID=America/Chicago:20260425T062942
DTSTAMP:20260425T062942
CREATED:20260422T220221Z
LAST-MODIFIED:20260422T220546Z
UID:6714-0-0@www.hopeuccstl.org
SUMMARY:Taize Worship
DESCRIPTION:
URL:https://www.hopeuccstl.org/event/taize-worship/
END:VEVENT
BEGIN:VEVENT
DTSTART;TZID=America/Chicago:20260425T062942
DTEND;TZID=America/Chicago:20260425T062942
DTSTAMP:20260425T062942
CREATED:20260422T220215Z
LAST-MODIFIED:20260422T220514Z
UID:6710-0-0@www.hopeuccstl.org
SUMMARY:Stewardship Ministry Meeting
DESCRIPTION:
URL:https://www.hopeuccstl.org/event/stewardship-ministry-meeting/
END:VEVENT
BEGIN:VEVENT
DTSTART;TZID=America/Chicago:20260425T062942
DTEND;TZID=America/Chicago:20260425T062942
DTSTAMP:20260425T062942
CREATED:20260422T220214Z
LAST-MODIFIED:20260422T220214Z
UID:6705-0-0@www.hopeuccstl.org
SUMMARY:Worship with Confirmation
DESCRIPTION:Limited in-person worship at Hope United Church of Christ has resumed\, but reservations are no longer required. Please read the guidelines here before attending so you are fully aware of the procedures and precautions which are in place to safeguard everyone’s health.\nIn-Person Worship Procedures March 2021 \nWe will continue to live-stream to Facebook Live from the sanctuary at 10:30 every Sunday\, posting the video on YouTube following the service. \nWe look forward to sharing worship with you this Sunday\, either in-person or virtually!
URL:https://www.hopeuccstl.org/event/worship-with-confirmation/
END:VEVENT
BEGIN:VEVENT
DTSTART;TZID=America/Chicago:20260425T062942
DTEND;TZID=America/Chicago:20260425T062942
DTSTAMP:20260425T062942
CREATED:20260422T220214Z
LAST-MODIFIED:20260422T220214Z
UID:6708-0-0@www.hopeuccstl.org
SUMMARY:Graduate Recognition Sunday
DESCRIPTION:
URL:https://www.hopeuccstl.org/event/graduate-recognition-sunday/
END:VEVENT
BEGIN:VEVENT
DTSTART;TZID=America/Chicago:20260425T062942
DTEND;TZID=America/Chicago:20260425T062942
DTSTAMP:20260425T062942
CREATED:20260422T220214Z
LAST-MODIFIED:20260422T220214Z
UID:6701-0-0@www.hopeuccstl.org
SUMMARY:Pentecost Sunday
DESCRIPTION:
URL:https://www.hopeuccstl.org/event/pentecost-sunday/
END:VEVENT
BEGIN:VEVENT
DTSTART;TZID=America/Chicago:20260425T062942
DTEND;TZID=America/Chicago:20260425T062942
DTSTAMP:20260425T062942
CREATED:20260422T220214Z
LAST-MODIFIED:20260422T220214Z
UID:6703-0-0@www.hopeuccstl.org
SUMMARY:Trinity Sunday
DESCRIPTION:
URL:https://www.hopeuccstl.org/event/trinity-sunday/
END:VEVENT
BEGIN:VEVENT
DTSTART;TZID=America/Chicago:20260425T062942
DTEND;TZID=America/Chicago:20260425T062942
DTSTAMP:20260425T062942
CREATED:20260422T220206Z
LAST-MODIFIED:20260422T220206Z
UID:6700-0-0@www.hopeuccstl.org
SUMMARY:Congregational Meeting
DESCRIPTION:Immediately following worship\, Hope will hold a congregational meeting open to those attending in the church sanctuary and those attending virtually through facebook live.
URL:https://www.hopeuccstl.org/event/congregational-meeting/
END:VEVENT
BEGIN:VEVENT
DTSTART;TZID=America/Chicago:20260425T062942
DTEND;TZID=America/Chicago:20260425T062942
DTSTAMP:20260425T062942
CREATED:20260422T220159Z
LAST-MODIFIED:20260422T220159Z
UID:6699-0-0@www.hopeuccstl.org
SUMMARY:Spring Association Meeting
DESCRIPTION:This event will be held on-line.
URL:https://www.hopeuccstl.org/event/spring-association-meeting/
END:VEVENT
BEGIN:VEVENT
DTSTART;TZID=America/Chicago:20260425T062942
DTEND;TZID=America/Chicago:20260425T062942
DTSTAMP:20260425T062942
CREATED:20260422T220158Z
LAST-MODIFIED:20260422T220158Z
UID:6693-0-0@www.hopeuccstl.org
SUMMARY:Missouri Mid-South Conference Annual Gathering
DESCRIPTION:
URL:https://www.hopeuccstl.org/event/missouri-mid-south-conference-annual-gathering/
END:VEVENT
BEGIN:VEVENT
DTSTART;TZID=America/Chicago:20260425T062942
DTEND;TZID=America/Chicago:20260425T062942
DTSTAMP:20260425T062942
CREATED:20260422T220143Z
LAST-MODIFIED:20260422T220635Z
UID:6690-0-0@www.hopeuccstl.org
SUMMARY:Easter Sunday
DESCRIPTION:In the Sanctuary with the Sacrament of CommunionEaster Egg Hunt and Flowering the Cross following the 10:30 service \n 
URL:https://www.hopeuccstl.org/event/easter-sunday/
END:VEVENT
BEGIN:VEVENT
DTSTART;TZID=America/Chicago:20260425T062942
DTEND;TZID=America/Chicago:20260425T062942
DTSTAMP:20260425T062942
CREATED:20260422T220143Z
LAST-MODIFIED:20260422T220143Z
UID:6692-0-0@www.hopeuccstl.org
SUMMARY:Ramadan Begins
DESCRIPTION:
URL:https://www.hopeuccstl.org/event/ramadan-begins/
END:VEVENT
BEGIN:VEVENT
DTSTART;TZID=America/Chicago:20260425T062942
DTEND;TZID=America/Chicago:20260425T062942
DTSTAMP:20260425T062942
CREATED:20260422T220142Z
LAST-MODIFIED:20260422T220142Z
UID:6688-0-0@www.hopeuccstl.org
SUMMARY:Good Friday
DESCRIPTION:
URL:https://www.hopeuccstl.org/event/good-friday/
END:VEVENT
BEGIN:VEVENT
DTSTART;TZID=America/Chicago:20260425T062942
DTEND;TZID=America/Chicago:20260425T062942
DTSTAMP:20260425T062942
CREATED:20260422T220141Z
LAST-MODIFIED:20260422T220524Z
UID:6682-0-0@www.hopeuccstl.org
SUMMARY:Worship with Sacrament of Communion
DESCRIPTION:Dee Dee Yanczer preaches. One service today with Communion.
URL:https://www.hopeuccstl.org/event/worship-with-sacrament-of-communion/
END:VEVENT
BEGIN:VEVENT
DTSTART;TZID=America/Chicago:20260425T062942
DTEND;TZID=America/Chicago:20260425T062942
DTSTAMP:20260425T062942
CREATED:20260422T220141Z
LAST-MODIFIED:20260422T220635Z
UID:6685-0-0@www.hopeuccstl.org
SUMMARY:Maundy Thursday
DESCRIPTION:Last year we were delighted to share a meal and worship with the members ofSamuel UCC in Clayton\, MO. This year they will be hosting us! \nA sign-up sheet for carpooling will be posted in early March. We’ll leave here at\n5:30 p.m. for a 6 p.m. meal and 7 p.m. service at Samuel UCC. Their address is:\n320 N Forsyth Blvd\, Clayton\, MO 63105 \n 
URL:https://www.hopeuccstl.org/event/maundy-thursday/
END:VEVENT
BEGIN:VEVENT
DTSTART;TZID=America/Chicago:20260425T062942
DTEND;TZID=America/Chicago:20260425T062942
DTSTAMP:20260425T062942
CREATED:20260422T220127Z
LAST-MODIFIED:20260422T220142Z
UID:6680-0-0@www.hopeuccstl.org
SUMMARY:Worship
DESCRIPTION:We will live-stream worship on Good Friday to Facebook Live from the sanctuary at noon\, posting the video on YouTube following the service.\nWe look forward to sharing worship with you on Good Friday\, either in-person or virtually! \nPlease read the guidelines here before attending so you are fully aware of the procedures and precautions which are in place to safeguard everyone’s health. \nIn-Person Worship Procedures March 2021
URL:https://www.hopeuccstl.org/event/worship/
END:VEVENT
BEGIN:VEVENT
DTSTART;TZID=America/Chicago:20260425T062942
DTEND;TZID=America/Chicago:20260425T062942
DTSTAMP:20260425T062942
CREATED:20260422T220127Z
LAST-MODIFIED:20260422T220524Z
UID:6679-0-0@www.hopeuccstl.org
SUMMARY:Palm Sunday
DESCRIPTION:Worship service in Sanctuary with Palm Processional\n 
URL:https://www.hopeuccstl.org/event/palm-sunday/
END:VEVENT
BEGIN:VEVENT
DTSTART;TZID=America/Chicago:20260425T062942
DTEND;TZID=America/Chicago:20260425T062942
DTSTAMP:20260425T062942
CREATED:20260422T220126Z
LAST-MODIFIED:20260422T220126Z
UID:6678-0-0@www.hopeuccstl.org
SUMMARY:5th Sunday in Lent
DESCRIPTION:
URL:https://www.hopeuccstl.org/event/5th-sunday-in-lent/
END:VEVENT
BEGIN:VEVENT
DTSTART;TZID=America/Chicago:20260425T062942
DTEND;TZID=America/Chicago:20260425T062942
DTSTAMP:20260425T062942
CREATED:20260422T220124Z
LAST-MODIFIED:20260422T220124Z
UID:6675-0-0@www.hopeuccstl.org
SUMMARY:Gateway ONA Convocation
DESCRIPTION:This year the  Gateway ONA Convocation will be held via Zoom on March 6th. There will be on-line registration only\, at $15 per person\, with no discounts for churches sending X number of people.\nAs in the past\, Hope will pay for members going to the Convocation.  If you are interested in registering\, please go online to do so at: https://onacovocation2021.eventbrite.com. \nThe deadline to register is 11:30 p.m.(CST) Wednesday\, March 3\, 2021. During the registration process\, you will be allowed to choose the three workshops you wish to attend. \nQuestions about registration or workshops can be directed to: Melissa Hattman\, mhattman@att.net \nAt the time you register\, you will need to use your personal credit card. After your registration is complete\, send a receipt and a voucher to Jill at jstoll@hopeuccstl.org and you will be reimbursed. \n  \n  \n 
URL:https://www.hopeuccstl.org/event/gateway-ona-convocation/
END:VEVENT
BEGIN:VEVENT
DTSTART;TZID=America/Chicago:20260425T062942
DTEND;TZID=America/Chicago:20260425T062942
DTSTAMP:20260425T062942
CREATED:20260422T220124Z
LAST-MODIFIED:20260422T220124Z
UID:6676-0-0@www.hopeuccstl.org
SUMMARY:3rd Sunday of Lent
DESCRIPTION:
URL:https://www.hopeuccstl.org/event/3rd-sunday-of-lent/
END:VEVENT
BEGIN:VEVENT
DTSTART;TZID=America/Chicago:20260425T062942
DTEND;TZID=America/Chicago:20260425T062942
DTSTAMP:20260425T062942
CREATED:20260422T220124Z
LAST-MODIFIED:20260422T220124Z
UID:6677-0-0@www.hopeuccstl.org
SUMMARY:4th Sunday in Lent
DESCRIPTION:
URL:https://www.hopeuccstl.org/event/4th-sunday-in-lent/
END:VEVENT
BEGIN:VEVENT
DTSTART;TZID=America/Chicago:20260425T062942
DTEND;TZID=America/Chicago:20260425T062942
DTSTAMP:20260425T062942
CREATED:20260422T220107Z
LAST-MODIFIED:20260422T220107Z
UID:6668-0-0@www.hopeuccstl.org
SUMMARY:1st Sunday of Lent
DESCRIPTION:
URL:https://www.hopeuccstl.org/event/1st-sunday-of-lent/
END:VEVENT
BEGIN:VEVENT
DTSTART;TZID=America/Chicago:20260425T062942
DTEND;TZID=America/Chicago:20260425T062942
DTSTAMP:20260425T062942
CREATED:20260422T220107Z
LAST-MODIFIED:20260422T220107Z
UID:6669-0-0@www.hopeuccstl.org
SUMMARY:2nd Sunday of Lent
DESCRIPTION:
URL:https://www.hopeuccstl.org/event/2nd-sunday-of-lent/
END:VEVENT
BEGIN:VEVENT
DTSTART;TZID=America/Chicago:20260425T062942
DTEND;TZID=America/Chicago:20260425T062942
DTSTAMP:20260425T062942
CREATED:20260422T220055Z
LAST-MODIFIED:20260422T220055Z
UID:6666-0-0@www.hopeuccstl.org
SUMMARY:Ash Wednesday Service via Facebook Live
DESCRIPTION:As with so many things in this past year\, our Ash Wednesday worship service will be a bit different from our usual tradition. It will be streamed on Facebook Live at 7pm (in lieu of that evening’s prayer service). Though it will obviously not include the imposition of ashes\, we will continue the tradition of burning away all that separates us from the love and will of God\, and will reflect upon the somber yet hopeful themes that this holy start to the Lenten season brings.\nThe video of the service will also be uploaded to YouTube. \nBulletin Ash Wednesday\, Feb 17\, 2021
URL:https://www.hopeuccstl.org/event/ash-wednesday-service-via-facebook-live/
END:VEVENT
BEGIN:VEVENT
DTSTART;TZID=America/Chicago:20260425T062942
DTEND;TZID=America/Chicago:20260425T062942
DTSTAMP:20260425T062942
CREATED:20260422T220055Z
LAST-MODIFIED:20260422T220055Z
UID:6667-0-0@www.hopeuccstl.org
SUMMARY:Private Prayer Time
DESCRIPTION:The Chapel will be available for private quiet prayer during these hours.  Come to the Eichelberger door and ring the doorbell.
URL:https://www.hopeuccstl.org/event/private-prayer-time/
END:VEVENT
BEGIN:VEVENT
DTSTART;TZID=America/Chicago:20260425T062942
DTEND;TZID=America/Chicago:20260425T062942
DTSTAMP:20260425T062942
CREATED:20260422T220054Z
LAST-MODIFIED:20260422T220054Z
UID:6665-0-0@www.hopeuccstl.org
SUMMARY:Presidents' Day
DESCRIPTION:
URL:https://www.hopeuccstl.org/event/presidents-day/
END:VEVENT
BEGIN:VEVENT
DTSTART;TZID=America/Chicago:20260425T062942
DTEND;TZID=America/Chicago:20260425T062942
DTSTAMP:20260425T062942
CREATED:20260422T220054Z
LAST-MODIFIED:20260422T220054Z
UID:6664-0-0@www.hopeuccstl.org
SUMMARY:Transfiguration Sunday
DESCRIPTION:
URL:https://www.hopeuccstl.org/event/transfiguration-sunday/
END:VEVENT
BEGIN:VEVENT
DTSTART;TZID=America/Chicago:20260425T062942
DTEND;TZID=America/Chicago:20260425T062942
DTSTAMP:20260425T062942
CREATED:20260422T220050Z
LAST-MODIFIED:20260422T220050Z
UID:6663-0-0@www.hopeuccstl.org
SUMMARY:Greening the Bible: A Biblical Basis for Creation Care
DESCRIPTION:In addition to Environmental Justice Sunday\, our new Environmental Justice ministry team is sponsoring a 4-session bible study during the month of February. It will be led by the Rev. Dr. Clint McCann\, who is the Evangelical Professor of Biblical Interpretation at Eden Theological Seminary in Webster Groves\, and teaches a seminary class on this topic.\nThese sessions are designed to illustrate the variety of biblical texts that call us to attend to the current ecological crisis.  To be sure\, the Bible offers no easy answers; but as one prominent scholar puts it\, what the Bible can offer are “vision and principle” from the past that may equip us to think and act differently (Ellen F. Davis\, Scripture\, Culture\, and Agriculture: An Agrarian Reading of the Bible\, p. 4). We’ll engage texts from The Torah\, the Prophets\, the Psalms and other Writings\, and the New Testament. \nSessions will be held on Zoom on Wednesdays\, February 3\, 10\, 17\, and 24th\, beginning at 7:30 pm following the weekly prayer service. While you can join in any or all sessions\, it is helpful to know in advance how many will attend\, so please contact Pastor Sarah if interested to register your interest and receive the Zoom link. \nResources: \nGreeningTheBible@HopeUCC \nGreeningTheBibleBriefBibliogrpahy \nClimate Chaos Manifesto \nGreenBiblePsalms
URL:https://www.hopeuccstl.org/event/greening-the-bible-a-biblical-basis-for-creation-care/
END:VEVENT
BEGIN:VEVENT
DTSTART;TZID=America/Chicago:20260425T062942
DTEND;TZID=America/Chicago:20260425T062942
DTSTAMP:20260425T062942
CREATED:20260422T220039Z
LAST-MODIFIED:20260422T220039Z
UID:6660-0-0@www.hopeuccstl.org
SUMMARY:Spaghetti Sauce Pick-Up
DESCRIPTION:Pre-ordered sauce for the Virtual Spaghetti Dinner will be available for pick up during this time.
URL:https://www.hopeuccstl.org/event/spaghetti-sauce-pick-up-2/
END:VEVENT
BEGIN:VEVENT
DTSTART;TZID=America/Chicago:20260425T062942
DTEND;TZID=America/Chicago:20260425T062942
DTSTAMP:20260425T062942
CREATED:20260422T220038Z
LAST-MODIFIED:20260422T220038Z
UID:6658-0-0@www.hopeuccstl.org
SUMMARY:Virtual Spaghetti Dinner
DESCRIPTION:Spaghetti is back on the menu! Join us for a virtual Spaghetti Dinner! Sauce will be sold by the jars in advance\, and we will have a live interactive video session from 4 – 7 pm on Sunday January 17 for anyone who wants to pop in and see friends from church.\nContact the church office to place your orders for sauce. Deadline for ordering is January 15. \nWe hope to see you there!
URL:https://www.hopeuccstl.org/event/virtual-spaghetti-dinner/
END:VEVENT
BEGIN:VEVENT
DTSTART;TZID=America/Chicago:20260425T062942
DTEND;TZID=America/Chicago:20260425T062942
DTSTAMP:20260425T062942
CREATED:20260422T220038Z
LAST-MODIFIED:20260422T220038Z
UID:6659-0-0@www.hopeuccstl.org
SUMMARY:Spaghetti Sauce Pick-Up
DESCRIPTION:Pre-ordered sauce for the Virtual Spaghetti Dinner will be available for pick up during this time.
URL:https://www.hopeuccstl.org/event/spaghetti-sauce-pick-up/
END:VEVENT
END:VCALENDAR