BEGIN:VCALENDAR
VERSION:2.0
PRODID:-//Hope UCC St. Louis - ECPv6.15.20//NONSGML v1.0//EN
CALSCALE:GREGORIAN
METHOD:PUBLISH
X-WR-CALNAME:Hope UCC St. Louis
X-ORIGINAL-URL:https://www.hopeuccstl.org
X-WR-CALDESC:Events for Hope UCC St. Louis
REFRESH-INTERVAL;VALUE=DURATION:PT1H
X-Robots-Tag:noindex
X-PUBLISHED-TTL:PT1H
BEGIN:VTIMEZONE
TZID:America/Chicago
BEGIN:DAYLIGHT
TZOFFSETFROM:-0600
TZOFFSETTO:-0500
TZNAME:CDT
DTSTART:19690427T080000
END:DAYLIGHT
BEGIN:STANDARD
TZOFFSETFROM:-0500
TZOFFSETTO:-0600
TZNAME:CST
DTSTART:19691026T070000
END:STANDARD
BEGIN:DAYLIGHT
TZOFFSETFROM:-0600
TZOFFSETTO:-0500
TZNAME:CDT
DTSTART:19700426T080000
END:DAYLIGHT
BEGIN:STANDARD
TZOFFSETFROM:-0500
TZOFFSETTO:-0600
TZNAME:CST
DTSTART:19701025T070000
END:STANDARD
BEGIN:DAYLIGHT
TZOFFSETFROM:-0600
TZOFFSETTO:-0500
TZNAME:CDT
DTSTART:19710425T080000
END:DAYLIGHT
BEGIN:STANDARD
TZOFFSETFROM:-0500
TZOFFSETTO:-0600
TZNAME:CST
DTSTART:19711031T070000
END:STANDARD
END:VTIMEZONE
BEGIN:VEVENT
DTSTART;TZID=America/Chicago:20260424T083950
DTEND;TZID=America/Chicago:20260424T083950
DTSTAMP:20260424T083950
CREATED:20260422T220321Z
LAST-MODIFIED:20260422T220321Z
UID:6730-0-0@www.hopeuccstl.org
SUMMARY:Office Closed for Labor Day
DESCRIPTION:
URL:https://www.hopeuccstl.org/event/office-closed-for-labor-day/
END:VEVENT
BEGIN:VEVENT
DTSTART;TZID=America/Chicago:20260424T083950
DTEND;TZID=America/Chicago:20260424T083950
DTSTAMP:20260424T083950
CREATED:20260422T220321Z
LAST-MODIFIED:20260422T220321Z
UID:6731-0-0@www.hopeuccstl.org
SUMMARY:World Communion Sunday
DESCRIPTION:
URL:https://www.hopeuccstl.org/event/world-communion-sunday/
END:VEVENT
BEGIN:VEVENT
DTSTART;TZID=America/Chicago:20260424T083950
DTEND;TZID=America/Chicago:20260424T083950
DTSTAMP:20260424T083950
CREATED:20260422T220304Z
LAST-MODIFIED:20260422T220304Z
UID:6724-0-0@www.hopeuccstl.org
SUMMARY:Worship in the Chapel with Sacrament of Communion
DESCRIPTION:In-person worship at Hope United Church of Christ has resumed. Reservations are not required to attend. Please read the recently updated guidelines here before attending so you are fully aware of the procedures and precautions which are in place to safeguard everyone’s health.\nWorship Guidelines May 2021 \nWe will continue to live-stream to Facebook Live from the sanctuary at 10:30 every Sunday\, posting the video on YouTube following the service. \nWe look forward to sharing worship with you this Sunday\, either in-person or virtually!
URL:https://www.hopeuccstl.org/event/worship-in-the-chapel-with-sacrament-of-communion/
END:VEVENT
BEGIN:VEVENT
DTSTART;TZID=America/Chicago:20260424T083950
DTEND;TZID=America/Chicago:20260424T083950
DTSTAMP:20260424T083950
CREATED:20260422T220304Z
LAST-MODIFIED:20260422T220304Z
UID:6726-0-0@www.hopeuccstl.org
SUMMARY:Stewardship Sunday
DESCRIPTION:We will meet for lunch in Fellowship Hall.
URL:https://www.hopeuccstl.org/event/stewardship-sunday/
END:VEVENT
BEGIN:VEVENT
DTSTART;TZID=America/Chicago:20260424T083950
DTEND;TZID=America/Chicago:20260424T083950
DTSTAMP:20260424T083950
CREATED:20260422T220250Z
LAST-MODIFIED:20260422T220321Z
UID:6722-0-0@www.hopeuccstl.org
SUMMARY:Bible Study via Zoom
DESCRIPTION:Monthly Bible Study \nWe will be discussing “Reading the Bible Badly.”  The book is authored by Dr. Karl Kuhn\, a professor at Lakeland University in Wisconsin\, and a former student of our own Clint McCann!  As Clint wrote on the back jacket of the book\, “Kuhn is very accessible and effectively exposes the bad readings of Scripture that are so prevalent today; and he shows us how to read the Bible in a way that honors its original cultural contexts\, its dynamic nature\, and its ever-present call to compassion\, hospitality and love.” \nIf interested in participating\, please contact Pastor Sarah. \n 
URL:https://www.hopeuccstl.org/event/bible-study-via-zoom/
END:VEVENT
BEGIN:VEVENT
DTSTART;TZID=America/Chicago:20260424T083950
DTEND;TZID=America/Chicago:20260424T083950
DTSTAMP:20260424T083950
CREATED:20260422T220247Z
LAST-MODIFIED:20260422T220353Z
UID:6719-0-0@www.hopeuccstl.org
SUMMARY:ONA Ministry Meeting
DESCRIPTION:The ministry team will meet in person in November.
URL:https://www.hopeuccstl.org/event/ona-ministry-meeting/
END:VEVENT
BEGIN:VEVENT
DTSTART;TZID=America/Chicago:20260424T083950
DTEND;TZID=America/Chicago:20260424T083950
DTSTAMP:20260424T083950
CREATED:20260422T220247Z
LAST-MODIFIED:20260422T220247Z
UID:6721-0-0@www.hopeuccstl.org
SUMMARY:Ordination Service for Phil Barbier
DESCRIPTION:The whole church is invited to celebrate the ordination of Hope UCC member Phil Barbier!  The service will be held in our Hope sanctuary on Sunday\, August 1st at 2pm.  Come and celebrate as we offer blessings to Phil and his family on the next chapter of his ministry as an ordained pastor\, serving two churches in Illinois.
URL:https://www.hopeuccstl.org/event/ordination-service-for-phil-barbier/
END:VEVENT
BEGIN:VEVENT
DTSTART;TZID=America/Chicago:20260424T083950
DTEND;TZID=America/Chicago:20260424T083950
DTSTAMP:20260424T083950
CREATED:20260422T220234Z
LAST-MODIFIED:20260422T220234Z
UID:6718-0-0@www.hopeuccstl.org
SUMMARY:Virtual General Synod
DESCRIPTION:
URL:https://www.hopeuccstl.org/event/virtual-general-synod/
END:VEVENT
BEGIN:VEVENT
DTSTART;TZID=America/Chicago:20260424T083950
DTEND;TZID=America/Chicago:20260424T083950
DTSTAMP:20260424T083950
CREATED:20260422T220231Z
LAST-MODIFIED:20260422T220708Z
UID:6715-0-0@www.hopeuccstl.org
SUMMARY:Blanket Sunday
DESCRIPTION:Need to give a gift to a father\, grandpa\, uncle or someone who has always been there for you? Or do you just want to lend a helping hand to someone in need? Your donation to Church World Services is a win-win. You can give a Father’s Day gift by honoring your loved one with a donation in their name and help people desperately in need of blankets in times of crisis. Read more about this special opportunity to “Blanket the World with Love” and learn how to contribute at the link below. \nBlanket Sunday – June 21 2021
URL:https://www.hopeuccstl.org/event/blanket-sunday/
END:VEVENT
BEGIN:VEVENT
DTSTART;TZID=America/Chicago:20260424T083950
DTEND;TZID=America/Chicago:20260424T083950
DTSTAMP:20260424T083950
CREATED:20260422T220231Z
LAST-MODIFIED:20260422T220231Z
UID:6716-0-0@www.hopeuccstl.org
SUMMARY:Office Closed
DESCRIPTION:Church Office closed in recognition of the July 4th holiday.
URL:https://www.hopeuccstl.org/event/office-closed/
END:VEVENT
BEGIN:VEVENT
DTSTART;TZID=America/Chicago:20260424T083950
DTEND;TZID=America/Chicago:20260424T083950
DTSTAMP:20260424T083950
CREATED:20260422T220231Z
LAST-MODIFIED:20260422T220231Z
UID:6717-0-0@www.hopeuccstl.org
SUMMARY:Dinner Bunch
DESCRIPTION:Dinner Bunch July gathering will meet be River’s Edge.\nhttps://www.riversedgesocial.com/ \nSign up by July 1st via e-mail with Kathy Swaller or Tiffany Beardslee so an accurate reservation can be made with a seat for everyone at the table!!
URL:https://www.hopeuccstl.org/event/dinner-bunch/
END:VEVENT
BEGIN:VEVENT
DTSTART;TZID=America/Chicago:20260424T083950
DTEND;TZID=America/Chicago:20260424T083950
DTSTAMP:20260424T083950
CREATED:20260422T220221Z
LAST-MODIFIED:20260422T220221Z
UID:6712-0-0@www.hopeuccstl.org
SUMMARY:HopeMark Summer Camp
DESCRIPTION:
URL:https://www.hopeuccstl.org/event/hopemark-summer-camp/
END:VEVENT
BEGIN:VEVENT
DTSTART;TZID=America/Chicago:20260424T083950
DTEND;TZID=America/Chicago:20260424T083950
DTSTAMP:20260424T083950
CREATED:20260422T220221Z
LAST-MODIFIED:20260422T220546Z
UID:6714-0-0@www.hopeuccstl.org
SUMMARY:Taize Worship
DESCRIPTION:
URL:https://www.hopeuccstl.org/event/taize-worship/
END:VEVENT
BEGIN:VEVENT
DTSTART;TZID=America/Chicago:20260424T083950
DTEND;TZID=America/Chicago:20260424T083950
DTSTAMP:20260424T083950
CREATED:20260422T220215Z
LAST-MODIFIED:20260422T220514Z
UID:6710-0-0@www.hopeuccstl.org
SUMMARY:Stewardship Ministry Meeting
DESCRIPTION:
URL:https://www.hopeuccstl.org/event/stewardship-ministry-meeting/
END:VEVENT
BEGIN:VEVENT
DTSTART;TZID=America/Chicago:20260424T083950
DTEND;TZID=America/Chicago:20260424T083950
DTSTAMP:20260424T083950
CREATED:20260422T220214Z
LAST-MODIFIED:20260422T220214Z
UID:6701-0-0@www.hopeuccstl.org
SUMMARY:Pentecost Sunday
DESCRIPTION:
URL:https://www.hopeuccstl.org/event/pentecost-sunday/
END:VEVENT
BEGIN:VEVENT
DTSTART;TZID=America/Chicago:20260424T083950
DTEND;TZID=America/Chicago:20260424T083950
DTSTAMP:20260424T083950
CREATED:20260422T220214Z
LAST-MODIFIED:20260422T220214Z
UID:6703-0-0@www.hopeuccstl.org
SUMMARY:Trinity Sunday
DESCRIPTION:
URL:https://www.hopeuccstl.org/event/trinity-sunday/
END:VEVENT
BEGIN:VEVENT
DTSTART;TZID=America/Chicago:20260424T083950
DTEND;TZID=America/Chicago:20260424T083950
DTSTAMP:20260424T083950
CREATED:20260422T220214Z
LAST-MODIFIED:20260422T220214Z
UID:6705-0-0@www.hopeuccstl.org
SUMMARY:Worship with Confirmation
DESCRIPTION:Limited in-person worship at Hope United Church of Christ has resumed\, but reservations are no longer required. Please read the guidelines here before attending so you are fully aware of the procedures and precautions which are in place to safeguard everyone’s health.\nIn-Person Worship Procedures March 2021 \nWe will continue to live-stream to Facebook Live from the sanctuary at 10:30 every Sunday\, posting the video on YouTube following the service. \nWe look forward to sharing worship with you this Sunday\, either in-person or virtually!
URL:https://www.hopeuccstl.org/event/worship-with-confirmation/
END:VEVENT
BEGIN:VEVENT
DTSTART;TZID=America/Chicago:20260424T083950
DTEND;TZID=America/Chicago:20260424T083950
DTSTAMP:20260424T083950
CREATED:20260422T220214Z
LAST-MODIFIED:20260422T220214Z
UID:6708-0-0@www.hopeuccstl.org
SUMMARY:Graduate Recognition Sunday
DESCRIPTION:
URL:https://www.hopeuccstl.org/event/graduate-recognition-sunday/
END:VEVENT
BEGIN:VEVENT
DTSTART;TZID=America/Chicago:20260424T083950
DTEND;TZID=America/Chicago:20260424T083950
DTSTAMP:20260424T083950
CREATED:20260422T220206Z
LAST-MODIFIED:20260422T220206Z
UID:6700-0-0@www.hopeuccstl.org
SUMMARY:Congregational Meeting
DESCRIPTION:Immediately following worship\, Hope will hold a congregational meeting open to those attending in the church sanctuary and those attending virtually through facebook live.
URL:https://www.hopeuccstl.org/event/congregational-meeting/
END:VEVENT
BEGIN:VEVENT
DTSTART;TZID=America/Chicago:20260424T083950
DTEND;TZID=America/Chicago:20260424T083950
DTSTAMP:20260424T083950
CREATED:20260422T220159Z
LAST-MODIFIED:20260422T220159Z
UID:6699-0-0@www.hopeuccstl.org
SUMMARY:Spring Association Meeting
DESCRIPTION:This event will be held on-line.
URL:https://www.hopeuccstl.org/event/spring-association-meeting/
END:VEVENT
BEGIN:VEVENT
DTSTART;TZID=America/Chicago:20260424T083950
DTEND;TZID=America/Chicago:20260424T083950
DTSTAMP:20260424T083950
CREATED:20260422T220158Z
LAST-MODIFIED:20260422T220158Z
UID:6693-0-0@www.hopeuccstl.org
SUMMARY:Missouri Mid-South Conference Annual Gathering
DESCRIPTION:
URL:https://www.hopeuccstl.org/event/missouri-mid-south-conference-annual-gathering/
END:VEVENT
BEGIN:VEVENT
DTSTART;TZID=America/Chicago:20260424T083950
DTEND;TZID=America/Chicago:20260424T083950
DTSTAMP:20260424T083950
CREATED:20260422T220143Z
LAST-MODIFIED:20260422T220635Z
UID:6690-0-0@www.hopeuccstl.org
SUMMARY:Easter Sunday
DESCRIPTION:In the Sanctuary with the Sacrament of CommunionEaster Egg Hunt and Flowering the Cross following the 10:30 service \n 
URL:https://www.hopeuccstl.org/event/easter-sunday/
END:VEVENT
BEGIN:VEVENT
DTSTART;TZID=America/Chicago:20260424T083950
DTEND;TZID=America/Chicago:20260424T083950
DTSTAMP:20260424T083950
CREATED:20260422T220143Z
LAST-MODIFIED:20260422T220143Z
UID:6692-0-0@www.hopeuccstl.org
SUMMARY:Ramadan Begins
DESCRIPTION:
URL:https://www.hopeuccstl.org/event/ramadan-begins/
END:VEVENT
BEGIN:VEVENT
DTSTART;TZID=America/Chicago:20260424T083950
DTEND;TZID=America/Chicago:20260424T083950
DTSTAMP:20260424T083950
CREATED:20260422T220142Z
LAST-MODIFIED:20260422T220142Z
UID:6688-0-0@www.hopeuccstl.org
SUMMARY:Good Friday
DESCRIPTION:
URL:https://www.hopeuccstl.org/event/good-friday/
END:VEVENT
BEGIN:VEVENT
DTSTART;TZID=America/Chicago:20260424T083950
DTEND;TZID=America/Chicago:20260424T083950
DTSTAMP:20260424T083950
CREATED:20260422T220141Z
LAST-MODIFIED:20260422T220524Z
UID:6682-0-0@www.hopeuccstl.org
SUMMARY:Worship with Sacrament of Communion
DESCRIPTION:Dee Dee Yanczer preaches. One service today with Communion.
URL:https://www.hopeuccstl.org/event/worship-with-sacrament-of-communion/
END:VEVENT
BEGIN:VEVENT
DTSTART;TZID=America/Chicago:20260424T083950
DTEND;TZID=America/Chicago:20260424T083950
DTSTAMP:20260424T083950
CREATED:20260422T220141Z
LAST-MODIFIED:20260422T220635Z
UID:6685-0-0@www.hopeuccstl.org
SUMMARY:Maundy Thursday
DESCRIPTION:Last year we were delighted to share a meal and worship with the members ofSamuel UCC in Clayton\, MO. This year they will be hosting us! \nA sign-up sheet for carpooling will be posted in early March. We’ll leave here at\n5:30 p.m. for a 6 p.m. meal and 7 p.m. service at Samuel UCC. Their address is:\n320 N Forsyth Blvd\, Clayton\, MO 63105 \n 
URL:https://www.hopeuccstl.org/event/maundy-thursday/
END:VEVENT
BEGIN:VEVENT
DTSTART;TZID=America/Chicago:20260424T083950
DTEND;TZID=America/Chicago:20260424T083950
DTSTAMP:20260424T083950
CREATED:20260422T220127Z
LAST-MODIFIED:20260422T220524Z
UID:6679-0-0@www.hopeuccstl.org
SUMMARY:Palm Sunday
DESCRIPTION:Worship service in Sanctuary with Palm Processional\n 
URL:https://www.hopeuccstl.org/event/palm-sunday/
END:VEVENT
BEGIN:VEVENT
DTSTART;TZID=America/Chicago:20260424T083950
DTEND;TZID=America/Chicago:20260424T083950
DTSTAMP:20260424T083950
CREATED:20260422T220127Z
LAST-MODIFIED:20260422T220142Z
UID:6680-0-0@www.hopeuccstl.org
SUMMARY:Worship
DESCRIPTION:We will live-stream worship on Good Friday to Facebook Live from the sanctuary at noon\, posting the video on YouTube following the service.\nWe look forward to sharing worship with you on Good Friday\, either in-person or virtually! \nPlease read the guidelines here before attending so you are fully aware of the procedures and precautions which are in place to safeguard everyone’s health. \nIn-Person Worship Procedures March 2021
URL:https://www.hopeuccstl.org/event/worship/
END:VEVENT
BEGIN:VEVENT
DTSTART;TZID=America/Chicago:20260424T083950
DTEND;TZID=America/Chicago:20260424T083950
DTSTAMP:20260424T083950
CREATED:20260422T220126Z
LAST-MODIFIED:20260422T220126Z
UID:6678-0-0@www.hopeuccstl.org
SUMMARY:5th Sunday in Lent
DESCRIPTION:
URL:https://www.hopeuccstl.org/event/5th-sunday-in-lent/
END:VEVENT
BEGIN:VEVENT
DTSTART;TZID=America/Chicago:20260424T083950
DTEND;TZID=America/Chicago:20260424T083950
DTSTAMP:20260424T083950
CREATED:20260422T220124Z
LAST-MODIFIED:20260422T220124Z
UID:6675-0-0@www.hopeuccstl.org
SUMMARY:Gateway ONA Convocation
DESCRIPTION:This year the  Gateway ONA Convocation will be held via Zoom on March 6th. There will be on-line registration only\, at $15 per person\, with no discounts for churches sending X number of people.\nAs in the past\, Hope will pay for members going to the Convocation.  If you are interested in registering\, please go online to do so at: https://onacovocation2021.eventbrite.com. \nThe deadline to register is 11:30 p.m.(CST) Wednesday\, March 3\, 2021. During the registration process\, you will be allowed to choose the three workshops you wish to attend. \nQuestions about registration or workshops can be directed to: Melissa Hattman\, mhattman@att.net \nAt the time you register\, you will need to use your personal credit card. After your registration is complete\, send a receipt and a voucher to Jill at jstoll@hopeuccstl.org and you will be reimbursed. \n  \n  \n 
URL:https://www.hopeuccstl.org/event/gateway-ona-convocation/
END:VEVENT
END:VCALENDAR