BEGIN:VCALENDAR
VERSION:2.0
PRODID:-//Hope UCC St. Louis - ECPv6.15.20//NONSGML v1.0//EN
CALSCALE:GREGORIAN
METHOD:PUBLISH
X-WR-CALNAME:Hope UCC St. Louis
X-ORIGINAL-URL:https://www.hopeuccstl.org
X-WR-CALDESC:Events for Hope UCC St. Louis
REFRESH-INTERVAL;VALUE=DURATION:PT1H
X-Robots-Tag:noindex
X-PUBLISHED-TTL:PT1H
BEGIN:VTIMEZONE
TZID:America/Chicago
BEGIN:DAYLIGHT
TZOFFSETFROM:-0600
TZOFFSETTO:-0500
TZNAME:CDT
DTSTART:19690427T080000
END:DAYLIGHT
BEGIN:STANDARD
TZOFFSETFROM:-0500
TZOFFSETTO:-0600
TZNAME:CST
DTSTART:19691026T070000
END:STANDARD
BEGIN:DAYLIGHT
TZOFFSETFROM:-0600
TZOFFSETTO:-0500
TZNAME:CDT
DTSTART:19700426T080000
END:DAYLIGHT
BEGIN:STANDARD
TZOFFSETFROM:-0500
TZOFFSETTO:-0600
TZNAME:CST
DTSTART:19701025T070000
END:STANDARD
BEGIN:DAYLIGHT
TZOFFSETFROM:-0600
TZOFFSETTO:-0500
TZNAME:CDT
DTSTART:19710425T080000
END:DAYLIGHT
BEGIN:STANDARD
TZOFFSETFROM:-0500
TZOFFSETTO:-0600
TZNAME:CST
DTSTART:19711031T070000
END:STANDARD
END:VTIMEZONE
BEGIN:VEVENT
DTSTART;TZID=America/Chicago:20260424T090610
DTEND;TZID=America/Chicago:20260424T090610
DTSTAMP:20260424T090610
CREATED:20260422T220441Z
LAST-MODIFIED:20260422T220441Z
UID:6765-0-0@www.hopeuccstl.org
SUMMARY:New Year's Day
DESCRIPTION:
URL:https://www.hopeuccstl.org/event/new-years-day/
END:VEVENT
BEGIN:VEVENT
DTSTART;TZID=America/Chicago:20260424T090610
DTEND;TZID=America/Chicago:20260424T090610
DTSTAMP:20260424T090610
CREATED:20260422T220441Z
LAST-MODIFIED:20260422T220441Z
UID:6764-0-0@www.hopeuccstl.org
SUMMARY:Bible Study in Person with Pastor Sarah
DESCRIPTION:Our next monthly Bible Study series will begin in January\, which gives you plenty of time to sign up!  The series is entitled “Sowing Tears\, Reaping Joy” and it incorporates the powerful music of Brahms’ Requiem with in-depth study of the biblical passages chosen for this remarkable musical piece. As described by the publisher\, “Follow this famous requiem on a tour of Biblical prompts about death\, grief\, the brevity of life\, and faith for here and hereafter.  Through music and Scripture\, we move from graveside to grieving\, from the challenges of self-reflection to new perspectives and hope beyond.”   No expertise of classical music or the Bible is needed! Student books are $15 each and will be ordered in advance. Therefore\, please sign up by December 15th so books can be ordered and distributed before the first session on January 25th\, 7 p.m.  This series will be held in person in the Friendly Room\, with a modified Zoom option for those unable to attend in person.  Questions? See Pastor Sarah. Contact church office to sign up.\n  \n 
URL:https://www.hopeuccstl.org/event/bible-study-in-person-with-pastor-sarah/
END:VEVENT
BEGIN:VEVENT
DTSTART;TZID=America/Chicago:20260424T090610
DTEND;TZID=America/Chicago:20260424T090610
DTSTAMP:20260424T090610
CREATED:20260422T220437Z
LAST-MODIFIED:20260422T220437Z
UID:6762-0-0@www.hopeuccstl.org
SUMMARY:Ministry Leadership Meetings & Annual Orientation
DESCRIPTION:Check with individual teams for details about meeting mode: in-person or Zoom
URL:https://www.hopeuccstl.org/event/ministry-leadership-meetings-annual-orientation/
END:VEVENT
BEGIN:VEVENT
DTSTART;TZID=America/Chicago:20260424T090610
DTEND;TZID=America/Chicago:20260424T090610
DTSTAMP:20260424T090610
CREATED:20260422T220435Z
LAST-MODIFIED:20260422T220435Z
UID:6760-0-0@www.hopeuccstl.org
SUMMARY:Pageant Rehearsal
DESCRIPTION:Rehearsal for the Christmas Pageant will be held in the sanctuary after worship.
URL:https://www.hopeuccstl.org/event/pageant-rehearsal/
END:VEVENT
BEGIN:VEVENT
DTSTART;TZID=America/Chicago:20260424T090610
DTEND;TZID=America/Chicago:20260424T090610
DTSTAMP:20260424T090610
CREATED:20260422T220435Z
LAST-MODIFIED:20260422T220435Z
UID:6761-0-0@www.hopeuccstl.org
SUMMARY:Unhanging of the Greens
DESCRIPTION:
URL:https://www.hopeuccstl.org/event/unhanging-of-the-greens/
END:VEVENT
BEGIN:VEVENT
DTSTART;TZID=America/Chicago:20260424T090610
DTEND;TZID=America/Chicago:20260424T090610
DTSTAMP:20260424T090610
CREATED:20260422T220426Z
LAST-MODIFIED:20260422T220426Z
UID:6758-0-0@www.hopeuccstl.org
SUMMARY:Christmas Eve in the Chapel
DESCRIPTION:This service will be held in the Chapel at Hope United Church of Christ with candle light and singing. It is an in-person service only and will not be available via YouTube. All are welcome to attend this service! \nMerry Christmas
URL:https://www.hopeuccstl.org/event/christmas-eve-in-the-chapel/
END:VEVENT
BEGIN:VEVENT
DTSTART;TZID=America/Chicago:20260424T090610
DTEND;TZID=America/Chicago:20260424T090610
DTSTAMP:20260424T090610
CREATED:20260422T220426Z
LAST-MODIFIED:20260422T220426Z
UID:6756-0-0@www.hopeuccstl.org
SUMMARY:Service of Light
DESCRIPTION:There is a tradition that many churches have\, and that we are reviving here at Hope\, to offer a contemplative service during Advent that acknowledges our grief and loss in the midst of a joyful season.  This is often held on the longest night of the year\, in recognition of the light of Christ coming into the darkest times of our lives.  It is sometimes called a “Blue Christmas” service\, or “Longest Night” service\, or\, as we are calling it\, a “Service of Light.”  No matter the name\, the service focuses on our universal longing for hope and love amidst loss and grief and uncertainty of all kinds. All are welcome to join us on Tuesday evening\, December 21st at 7pm in the Chapel.  We will hold a short prayer service\, focusing on the light of Christ coming into the dark and uncertain times of our lives. During the service\, all participants will be invited to light a candle in remembrance of a loved one\, or simply as a sign of hope.\n 
URL:https://www.hopeuccstl.org/event/service-of-light/
END:VEVENT
BEGIN:VEVENT
DTSTART;TZID=America/Chicago:20260424T090610
DTEND;TZID=America/Chicago:20260424T090610
DTSTAMP:20260424T090610
CREATED:20260422T220426Z
LAST-MODIFIED:20260422T220426Z
UID:6757-0-0@www.hopeuccstl.org
SUMMARY:10:30 AM Fourth Sunday of Advent Worship
DESCRIPTION:This service will be held in the main sanctuary at Hope United Church of Christ. You are welcome to attend in person or virtually through YouTube.\nA video of this service will be posted to Hope UCC’s YouTube channel after worship.
URL:https://www.hopeuccstl.org/event/1030-am-fourth-sunday-of-advent-worship/
END:VEVENT
BEGIN:VEVENT
DTSTART;TZID=America/Chicago:20260424T090610
DTEND;TZID=America/Chicago:20260424T090610
DTSTAMP:20260424T090610
CREATED:20260422T220425Z
LAST-MODIFIED:20260422T220425Z
UID:6755-0-0@www.hopeuccstl.org
SUMMARY:Music Rehearsals
DESCRIPTION:
URL:https://www.hopeuccstl.org/event/music-rehearsals/
END:VEVENT
BEGIN:VEVENT
DTSTART;TZID=America/Chicago:20260424T090610
DTEND;TZID=America/Chicago:20260424T090610
DTSTAMP:20260424T090610
CREATED:20260422T220422Z
LAST-MODIFIED:20260422T220422Z
UID:6753-0-0@www.hopeuccstl.org
SUMMARY:Habitat Build Day
DESCRIPTION:
URL:https://www.hopeuccstl.org/event/habitat-build-day/
END:VEVENT
BEGIN:VEVENT
DTSTART;TZID=America/Chicago:20260424T090610
DTEND;TZID=America/Chicago:20260424T090610
DTSTAMP:20260424T090610
CREATED:20260422T220422Z
LAST-MODIFIED:20260422T220422Z
UID:6754-0-0@www.hopeuccstl.org
SUMMARY:Hanging of the Greens
DESCRIPTION:Help decorate the Sanctuary and Chapel with greenery for Advent & Christmas.
URL:https://www.hopeuccstl.org/event/hanging-of-the-greens/
END:VEVENT
BEGIN:VEVENT
DTSTART;TZID=America/Chicago:20260424T090610
DTEND;TZID=America/Chicago:20260424T090610
DTSTAMP:20260424T090610
CREATED:20260422T220419Z
LAST-MODIFIED:20260422T220812Z
UID:6751-0-0@www.hopeuccstl.org
SUMMARY:Third Sunday in Advent
DESCRIPTION:There will be one service only today.  Advent is a season of preparation and anticipation for the birth of Jesus\, and the return of the risen Christ: The word “Advent” comes from the Latin word adventus\, which means “coming” or “arrival”.
URL:https://www.hopeuccstl.org/event/third-sunday-in-advent/
END:VEVENT
BEGIN:VEVENT
DTSTART;TZID=America/Chicago:20260424T090610
DTEND;TZID=America/Chicago:20260424T090610
DTSTAMP:20260424T090610
CREATED:20260422T220419Z
LAST-MODIFIED:20260422T220812Z
UID:6752-0-0@www.hopeuccstl.org
SUMMARY:Fourth Sunday in Advent
DESCRIPTION:Today is the Festival of Carols\, the Bell Choir will perform at this service.
URL:https://www.hopeuccstl.org/event/fourth-sunday-in-advent/
END:VEVENT
BEGIN:VEVENT
DTSTART;TZID=America/Chicago:20260424T090610
DTEND;TZID=America/Chicago:20260424T090610
DTSTAMP:20260424T090610
CREATED:20260422T220409Z
LAST-MODIFIED:20260422T220409Z
UID:6744-0-0@www.hopeuccstl.org
SUMMARY:Budget Q & A
DESCRIPTION:This meeting will be an opportunity for members of the congregation to ask questions and come to a fuller understanding of Hope’s finances prior to the Annual Meeting on November 14 when the congregation will be asked to vote on the 2022 budget.\nThe meeting will be in the Parlor.
URL:https://www.hopeuccstl.org/event/budget-q-a/
END:VEVENT
BEGIN:VEVENT
DTSTART;TZID=America/Chicago:20260424T090610
DTEND;TZID=America/Chicago:20260424T090610
DTSTAMP:20260424T090610
CREATED:20260422T220409Z
LAST-MODIFIED:20260422T220409Z
UID:6745-0-0@www.hopeuccstl.org
SUMMARY:Budget Q & A
DESCRIPTION:This meeting will be an opportunity for members of the congregation to ask questions and come to a fuller understanding of Hope’s finances prior to the Annual Meeting on November 14 when the congregation will be asked to vote on the 2022 budget.\nThe meeting will be in the Parlor.
URL:https://www.hopeuccstl.org/event/budget-q-a-2/
END:VEVENT
BEGIN:VEVENT
DTSTART;TZID=America/Chicago:20260424T090610
DTEND;TZID=America/Chicago:20260424T090610
DTSTAMP:20260424T090610
CREATED:20260422T220409Z
LAST-MODIFIED:20260422T220409Z
UID:6746-0-0@www.hopeuccstl.org
SUMMARY:Bottle Cap Sorting Party
DESCRIPTION:Come help sort the bottle caps collected for the ONA Rainbow bench. More hands make the work go faster and definitely makes it more fun. There will be pizza!!\nIf you plan to attend\, please sign up on the bulletin board at Hope\, or call the office.
URL:https://www.hopeuccstl.org/event/bottle-cap-sorting-party/
END:VEVENT
BEGIN:VEVENT
DTSTART;TZID=America/Chicago:20260424T090610
DTEND;TZID=America/Chicago:20260424T090610
DTSTAMP:20260424T090610
CREATED:20260422T220354Z
LAST-MODIFIED:20260422T220354Z
UID:6742-0-0@www.hopeuccstl.org
SUMMARY:First Sunday after Christmas
DESCRIPTION:There will be one service only today.
URL:https://www.hopeuccstl.org/event/first-sunday-after-christmas/
END:VEVENT
BEGIN:VEVENT
DTSTART;TZID=America/Chicago:20260424T090610
DTEND;TZID=America/Chicago:20260424T090610
DTSTAMP:20260424T090610
CREATED:20260422T220353Z
LAST-MODIFIED:20260422T220756Z
UID:6741-0-0@www.hopeuccstl.org
SUMMARY:Harvest Home Sunday
DESCRIPTION:Please bring fresh fruits and vegetables to adorn the Communion Table and Chancel on this day. All produce donated will become part of Isaiah 58’s Thanksgiving meal program for its clients.
URL:https://www.hopeuccstl.org/event/harvest-home-sunday/
END:VEVENT
BEGIN:VEVENT
DTSTART;TZID=America/Chicago:20260424T090610
DTEND;TZID=America/Chicago:20260424T090610
DTSTAMP:20260424T090610
CREATED:20260422T220352Z
LAST-MODIFIED:20260422T220352Z
UID:6738-0-0@www.hopeuccstl.org
SUMMARY:B&P Work Day
DESCRIPTION:Please join us to spiff up the building and grounds after the long pandemic hiatus.  There will be both indoor and outdoor projects suitable for all skill and stamina levels.  Following the morning fellowship and labor we will have a brief ceremony in honor of the late church member Pete Weis\, who was a long-time Building and Property leader and member. Please also stay for a light lunch!
URL:https://www.hopeuccstl.org/event/bp-work-day/
END:VEVENT
BEGIN:VEVENT
DTSTART;TZID=America/Chicago:20260424T090610
DTEND;TZID=America/Chicago:20260424T090610
DTSTAMP:20260424T090610
CREATED:20260422T220337Z
LAST-MODIFIED:20260422T220338Z
UID:6736-0-0@www.hopeuccstl.org
SUMMARY:Annual Reports Availble
DESCRIPTION:
URL:https://www.hopeuccstl.org/event/annual-reports-availble/
END:VEVENT
BEGIN:VEVENT
DTSTART;TZID=America/Chicago:20260424T090610
DTEND;TZID=America/Chicago:20260424T090610
DTSTAMP:20260424T090610
CREATED:20260422T220321Z
LAST-MODIFIED:20260422T220321Z
UID:6730-0-0@www.hopeuccstl.org
SUMMARY:Office Closed for Labor Day
DESCRIPTION:
URL:https://www.hopeuccstl.org/event/office-closed-for-labor-day/
END:VEVENT
BEGIN:VEVENT
DTSTART;TZID=America/Chicago:20260424T090610
DTEND;TZID=America/Chicago:20260424T090610
DTSTAMP:20260424T090610
CREATED:20260422T220321Z
LAST-MODIFIED:20260422T220321Z
UID:6731-0-0@www.hopeuccstl.org
SUMMARY:World Communion Sunday
DESCRIPTION:
URL:https://www.hopeuccstl.org/event/world-communion-sunday/
END:VEVENT
BEGIN:VEVENT
DTSTART;TZID=America/Chicago:20260424T090610
DTEND;TZID=America/Chicago:20260424T090610
DTSTAMP:20260424T090610
CREATED:20260422T220304Z
LAST-MODIFIED:20260422T220304Z
UID:6724-0-0@www.hopeuccstl.org
SUMMARY:Worship in the Chapel with Sacrament of Communion
DESCRIPTION:In-person worship at Hope United Church of Christ has resumed. Reservations are not required to attend. Please read the recently updated guidelines here before attending so you are fully aware of the procedures and precautions which are in place to safeguard everyone’s health.\nWorship Guidelines May 2021 \nWe will continue to live-stream to Facebook Live from the sanctuary at 10:30 every Sunday\, posting the video on YouTube following the service. \nWe look forward to sharing worship with you this Sunday\, either in-person or virtually!
URL:https://www.hopeuccstl.org/event/worship-in-the-chapel-with-sacrament-of-communion/
END:VEVENT
BEGIN:VEVENT
DTSTART;TZID=America/Chicago:20260424T090610
DTEND;TZID=America/Chicago:20260424T090610
DTSTAMP:20260424T090610
CREATED:20260422T220304Z
LAST-MODIFIED:20260422T220304Z
UID:6726-0-0@www.hopeuccstl.org
SUMMARY:Stewardship Sunday
DESCRIPTION:We will meet for lunch in Fellowship Hall.
URL:https://www.hopeuccstl.org/event/stewardship-sunday/
END:VEVENT
BEGIN:VEVENT
DTSTART;TZID=America/Chicago:20260424T090610
DTEND;TZID=America/Chicago:20260424T090610
DTSTAMP:20260424T090610
CREATED:20260422T220250Z
LAST-MODIFIED:20260422T220321Z
UID:6722-0-0@www.hopeuccstl.org
SUMMARY:Bible Study via Zoom
DESCRIPTION:Monthly Bible Study \nWe will be discussing “Reading the Bible Badly.”  The book is authored by Dr. Karl Kuhn\, a professor at Lakeland University in Wisconsin\, and a former student of our own Clint McCann!  As Clint wrote on the back jacket of the book\, “Kuhn is very accessible and effectively exposes the bad readings of Scripture that are so prevalent today; and he shows us how to read the Bible in a way that honors its original cultural contexts\, its dynamic nature\, and its ever-present call to compassion\, hospitality and love.” \nIf interested in participating\, please contact Pastor Sarah. \n 
URL:https://www.hopeuccstl.org/event/bible-study-via-zoom/
END:VEVENT
BEGIN:VEVENT
DTSTART;TZID=America/Chicago:20260424T090610
DTEND;TZID=America/Chicago:20260424T090610
DTSTAMP:20260424T090610
CREATED:20260422T220247Z
LAST-MODIFIED:20260422T220353Z
UID:6719-0-0@www.hopeuccstl.org
SUMMARY:ONA Ministry Meeting
DESCRIPTION:The ministry team will meet in person in November.
URL:https://www.hopeuccstl.org/event/ona-ministry-meeting/
END:VEVENT
BEGIN:VEVENT
DTSTART;TZID=America/Chicago:20260424T090610
DTEND;TZID=America/Chicago:20260424T090610
DTSTAMP:20260424T090610
CREATED:20260422T220247Z
LAST-MODIFIED:20260422T220247Z
UID:6721-0-0@www.hopeuccstl.org
SUMMARY:Ordination Service for Phil Barbier
DESCRIPTION:The whole church is invited to celebrate the ordination of Hope UCC member Phil Barbier!  The service will be held in our Hope sanctuary on Sunday\, August 1st at 2pm.  Come and celebrate as we offer blessings to Phil and his family on the next chapter of his ministry as an ordained pastor\, serving two churches in Illinois.
URL:https://www.hopeuccstl.org/event/ordination-service-for-phil-barbier/
END:VEVENT
BEGIN:VEVENT
DTSTART;TZID=America/Chicago:20260424T090610
DTEND;TZID=America/Chicago:20260424T090610
DTSTAMP:20260424T090610
CREATED:20260422T220234Z
LAST-MODIFIED:20260422T220234Z
UID:6718-0-0@www.hopeuccstl.org
SUMMARY:Virtual General Synod
DESCRIPTION:
URL:https://www.hopeuccstl.org/event/virtual-general-synod/
END:VEVENT
BEGIN:VEVENT
DTSTART;TZID=America/Chicago:20260424T090610
DTEND;TZID=America/Chicago:20260424T090610
DTSTAMP:20260424T090610
CREATED:20260422T220231Z
LAST-MODIFIED:20260422T220708Z
UID:6715-0-0@www.hopeuccstl.org
SUMMARY:Blanket Sunday
DESCRIPTION:Need to give a gift to a father\, grandpa\, uncle or someone who has always been there for you? Or do you just want to lend a helping hand to someone in need? Your donation to Church World Services is a win-win. You can give a Father’s Day gift by honoring your loved one with a donation in their name and help people desperately in need of blankets in times of crisis. Read more about this special opportunity to “Blanket the World with Love” and learn how to contribute at the link below. \nBlanket Sunday – June 21 2021
URL:https://www.hopeuccstl.org/event/blanket-sunday/
END:VEVENT
BEGIN:VEVENT
DTSTART;TZID=America/Chicago:20260424T090610
DTEND;TZID=America/Chicago:20260424T090610
DTSTAMP:20260424T090610
CREATED:20260422T220231Z
LAST-MODIFIED:20260422T220231Z
UID:6716-0-0@www.hopeuccstl.org
SUMMARY:Office Closed
DESCRIPTION:Church Office closed in recognition of the July 4th holiday.
URL:https://www.hopeuccstl.org/event/office-closed/
END:VEVENT
END:VCALENDAR