BEGIN:VCALENDAR
VERSION:2.0
PRODID:-//Hope UCC St. Louis - ECPv6.15.20//NONSGML v1.0//EN
CALSCALE:GREGORIAN
METHOD:PUBLISH
X-WR-CALNAME:Hope UCC St. Louis
X-ORIGINAL-URL:https://www.hopeuccstl.org
X-WR-CALDESC:Events for Hope UCC St. Louis
REFRESH-INTERVAL;VALUE=DURATION:PT1H
X-Robots-Tag:noindex
X-PUBLISHED-TTL:PT1H
BEGIN:VTIMEZONE
TZID:America/Chicago
BEGIN:DAYLIGHT
TZOFFSETFROM:-0600
TZOFFSETTO:-0500
TZNAME:CDT
DTSTART:20250309T080000
END:DAYLIGHT
BEGIN:STANDARD
TZOFFSETFROM:-0500
TZOFFSETTO:-0600
TZNAME:CST
DTSTART:20251102T070000
END:STANDARD
BEGIN:DAYLIGHT
TZOFFSETFROM:-0600
TZOFFSETTO:-0500
TZNAME:CDT
DTSTART:20260308T080000
END:DAYLIGHT
BEGIN:STANDARD
TZOFFSETFROM:-0500
TZOFFSETTO:-0600
TZNAME:CST
DTSTART:20261101T070000
END:STANDARD
BEGIN:DAYLIGHT
TZOFFSETFROM:-0600
TZOFFSETTO:-0500
TZNAME:CDT
DTSTART:20270314T080000
END:DAYLIGHT
BEGIN:STANDARD
TZOFFSETFROM:-0500
TZOFFSETTO:-0600
TZNAME:CST
DTSTART:20271107T070000
END:STANDARD
END:VTIMEZONE
BEGIN:VEVENT
DTSTART;TZID=America/Chicago:20260503T083000
DTEND;TZID=America/Chicago:20260503T090000
DTSTAMP:20260423T170146
CREATED:20260423T172553Z
LAST-MODIFIED:20260423T172626Z
UID:6967-1777797000-1777798800@www.hopeuccstl.org
SUMMARY:Contemplative Prayer
DESCRIPTION:We offer a time of contemplative prayer\, with music and scripture\, from 8:30-9:00 a.m. in the Chapel. (at the entrance on Eichelberger).
URL:https://www.hopeuccstl.org/event/contemplative-prayer/
END:VEVENT
BEGIN:VEVENT
DTSTART;TZID=America/Chicago:20260503T103000
DTEND;TZID=America/Chicago:20260503T113000
DTSTAMP:20260423T170146
CREATED:20260422T220651Z
LAST-MODIFIED:20260423T155948Z
UID:6860-1777804200-1777807800@www.hopeuccstl.org
SUMMARY:10:30 AM Worship in Sanctuary with Bell Choir
DESCRIPTION:This service will be held in the main sanctuary at Hope United Church of Christ. You are welcome to attend in person or virtually through YouTube.\nA video of this service will be posted to Hope UCC’s YouTube channel after worship.
URL:https://www.hopeuccstl.org/event/1030-am-fourth-sunday-of-easter-worship/
LOCATION:Hope UCC\, 6273 Eichelberger St.\, SAINT LOUIS\, MO\, 63109\, United States
END:VEVENT
END:VCALENDAR