BEGIN:VCALENDAR
VERSION:2.0
PRODID:-//Hope UCC St. Louis - ECPv6.15.20//NONSGML v1.0//EN
CALSCALE:GREGORIAN
METHOD:PUBLISH
X-ORIGINAL-URL:https://www.hopeuccstl.org
X-WR-CALDESC:Events for Hope UCC St. Louis
REFRESH-INTERVAL;VALUE=DURATION:PT1H
X-Robots-Tag:noindex
X-PUBLISHED-TTL:PT1H
BEGIN:VTIMEZONE
TZID:America/Chicago
BEGIN:DAYLIGHT
TZOFFSETFROM:-0600
TZOFFSETTO:-0500
TZNAME:CDT
DTSTART:20250309T080000
END:DAYLIGHT
BEGIN:STANDARD
TZOFFSETFROM:-0500
TZOFFSETTO:-0600
TZNAME:CST
DTSTART:20251102T070000
END:STANDARD
BEGIN:DAYLIGHT
TZOFFSETFROM:-0600
TZOFFSETTO:-0500
TZNAME:CDT
DTSTART:20260308T080000
END:DAYLIGHT
BEGIN:STANDARD
TZOFFSETFROM:-0500
TZOFFSETTO:-0600
TZNAME:CST
DTSTART:20261101T070000
END:STANDARD
BEGIN:DAYLIGHT
TZOFFSETFROM:-0600
TZOFFSETTO:-0500
TZNAME:CDT
DTSTART:20270314T080000
END:DAYLIGHT
BEGIN:STANDARD
TZOFFSETFROM:-0500
TZOFFSETTO:-0600
TZNAME:CST
DTSTART:20271107T070000
END:STANDARD
END:VTIMEZONE
BEGIN:VEVENT
DTSTART;TZID=America/Chicago:20260426T083000
DTEND;TZID=America/Chicago:20260426T090000
DTSTAMP:20260423T140321
CREATED:20260422T220820Z
LAST-MODIFIED:20260423T160043Z
UID:6919-1777192200-1777194000@www.hopeuccstl.org
SUMMARY:Contemplative Prayer in Chapel
DESCRIPTION:We offer a time of contemplative prayer\, with music and scripture\, from 8:30-9:00 a.m. in the Chapel. (at the entrance on Eichelberger).
URL:https://www.hopeuccstl.org/event/contemplative-prayer-in-chapel/
LOCATION:Hope UCC\, 6273 Eichelberger St.\, SAINT LOUIS\, MO\, 63109\, United States
END:VEVENT
BEGIN:VEVENT
DTSTART;TZID=America/Chicago:20260426T103000
DTEND;TZID=America/Chicago:20260426T233000
DTSTAMP:20260423T140321
CREATED:20260423T172314Z
LAST-MODIFIED:20260423T172353Z
UID:6965-1777199400-1777246200@www.hopeuccstl.org
SUMMARY:Worship in Sanctuary
DESCRIPTION:This service will be held in the main sanctuary at Hope United Church of Christ. You are welcome to attend in person or virtually through YouTube.\nA video of this service will be posted to Hope UCC’s YouTube channel after worship.
URL:https://www.hopeuccstl.org/event/worship-in-sanctuary-2/
END:VEVENT
END:VCALENDAR